BEGIN:VCALENDAR
VERSION:2.0
PRODID:-//ChamberMaster//Event Calendar 2.0//EN
METHOD:PUBLISH
X-PUBLISHED-TTL:P3D
REFRESH-INTERVAL:P3D
CALSCALE:GREGORIAN
BEGIN:VEVENT
DTSTART:20200924T070000Z
DTEND:20210117T080000Z
X-MICROSOFT-CDO-ALLDAYEVENT:FALSE
SUMMARY:Lakefront Game Watch This Football Season
DESCRIPTION:Are you ready for some FOOTBALL?  Join us at Hyatt Regency Lake Washington's Water's Table and Dock & Drink for every Sunday Night\, Monday Night and Thursday Night football game\, as well as every Seahawks game (home or away).  Enjoy the award-winning fine dining of Water's Table restaurant or try Dock & Drink's open air seating with local brew\, wine or cocktails paired with delicious bar bites.  We win when you're able to leisurely enjoy the game\, while our safe and courteous staff takes excellent care of you.
X-ALT-DESC;FMTTYPE=text/html:<span style="color:rgb(40\, 40\, 40)\; font-family:open sans\,arial\,sans-serif\; font-size:14px">Are you ready for some&nbsp\;</span><strong>FOOTBALL</strong><span style="color:rgb(40\, 40\, 40)\; font-family:open sans\,arial\,sans-serif\; font-size:14px">?&nbsp\; Join us at Hyatt Regency Lake Washington&rsquo\;s Water&rsquo\;s Table and Dock &amp\; Drink for every Sunday Night\, Monday Night&nbsp\;</span><u>and</u><span style="color:rgb(40\, 40\, 40)\; font-family:open sans\,arial\,sans-serif\; font-size:14px">&nbsp\;Thursday Night football game\, as well as&nbsp\;</span><u>every</u><span style="color:rgb(40\, 40\, 40)\; font-family:open sans\,arial\,sans-serif\; font-size:14px">&nbsp\;Seahawks game (home or away).&nbsp\; Enjoy the award-winning fine dining of Water&rsquo\;s Table restaurant or try Dock &amp\; Drink&rsquo\;s open air seating with local brew\, wine or cocktails paired with delicious bar bites.&nbsp\; We win when you&rsquo\;re able to leisurely enjoy the game\, while our safe and courteous staff takes excellent care of you.</span>
LOCATION:Dock and Drink/ Water's Table Hyatt Regency Lake Washington 1053 Lake Washington Blvd N\, Renton\, WA 98056
UID:e.16.7039
SEQUENCE:3
DTSTAMP:20260421T001037Z
URL:https://chamber.gorenton.com/events/details/lakefront-game-watch-this-football-season-7039
END:VEVENT

END:VCALENDAR
