BEGIN:VCALENDAR
VERSION:2.0
PRODID:-//ChamberMaster//Event Calendar 2.0//EN
METHOD:PUBLISH
X-PUBLISHED-TTL:P3D
REFRESH-INTERVAL:P3D
CALSCALE:GREGORIAN
BEGIN:VEVENT
DTSTART:20210216T163000Z
DTEND:20210216T173000Z
X-MICROSOFT-CDO-ALLDAYEVENT:FALSE
SUMMARY:Legislative and Transportation Committee Meeting
DESCRIPTION:Join the Legislative Committee as they welcome King County Councilmember Reagan Dunn.  CM Dunn will be giving the team updates on things happening in King County\, what the current process looks like and what we have to look forward to ahead.\n\n\n\nThese are great opportunities for relationship building with our elected officials and sharing updates and reports.\n\n \n\nThe Legislative and Transportation committee supports chamber membership by advocating for sound business practices at state and local government levels. This includes\, advocacy in Olympia\, developing policy positions\, legislation receptions\, review referendums and initiatives\, and help organize all legislation events of the Chamber.\n\n \n\nThe committee fulfills this by the following methods:\n\n \n\nChamber Day planning\, attending and messaging to our elected officials\n\nAnother day in Olympia to advocate for small business issues given bills proposed\, dropped and in process.\n\nOngoing bulletin messages on proposed legislation and tax impacts to business/our members.\n\nTransportation presentations throughout the year on changes\, tolling\, etc.\, and communicate to members.\n\nWork and develop policy positions with the South KC Coalition that speak to our member's business needs.  This requires ongoing communication with the coalition and business members.\n\nPrioritized Renton Chamber legislative priorities and impact to business.\n\nLegislative Reception to enable Chamber members to hear from incumbents and candidates.\n\nInvite all individuals running for election to ask for Chamber endorsement.  Given responses to that and interviews completed by the committee\, recommend the committee's decision to the board for their input/approval and then communication.\n\nReview referendums\, initiatives and local issues as appropriate for recommendation to the Board.\n\nSponsor the Legislative Reception in the fall to introduce candidates to local business.
X-ALT-DESC;FMTTYPE=text/html:<div style="color: gray"><span style="color:#000000\;"><span style="font-size: 12px"><span style="font-family: arial"><strong>Join the Legislative Committee as they welcome King County Councilmember Reagan Dunn.&nbsp\; CM Dunn will be giving the team updates on things happening in King County\, what the current process looks like and what we have to look forward to ahead.<br />\n<br />\nThese are great opportunities for relationship building with our elected officials and sharing updates and reports.</strong></span></span><br />\n<span style="font-size: 10pt"><span style="font-size: 12px"><span style="font-family: arial">&nbsp\;</span></span></span><br />\n<span style="font-family:arial\;"><span style="font-size:12.0pt\;">The Legislative and Transportation committee supports chamber membership by advocating for sound business practices at&nbsp\;state and local government levels. This includes\, advocacy in Olympia\, developing policy positions\, legislation receptions\, review referendums and initiatives\, and help organize all legislation events of the Chamber.</span></span></span><br />\n<span style="font-family:arial\;">&nbsp\;</span><br />\n<span style="color: #000000"><span style="font-size: 10pt"><span style="font-size: 12px"><span style="font-family: arial">The committee fulfills this by the following methods:<br />\n&nbsp\;<br />\nChamber Day planning\, attending and messaging to our elected officials<br />\nAnother day in Olympia to advocate for small business issues given bills proposed\, dropped and in process.<br />\nOngoing bulletin messages on proposed legislation and tax impacts to business/our members.<br />\nTransportation presentations throughout the year on changes\, tolling\, etc.\, and communicate to members.<br />\nWork and develop policy positions with the South KC Coalition that speak to our member&rsquo\;s business needs.&nbsp\; This requires ongoing communication with the coalition and business members.<br />\nPrioritized Renton Chamber legislative priorities and impact to business.<br />\nLegislative Reception to enable Chamber members to hear from incumbents and candidates.<br />\nInvite all individuals running for election to ask for Chamber endorsement. &nbsp\;Given responses to that and interviews completed by the committee\, recommend the committee&rsquo\;s decision to the board for their input/approval and then communication.<br />\nReview referendums\, initiatives and local issues as appropriate for recommendation to the Board.<br />\nSponsor the Legislative Reception in the fall to introduce candidates to local business.&nbsp\;</span></span></span></span><br />\n&nbsp\;</div>\n
LOCATION:Join Zoom Meeting https://us02web.zoom.us/j/85721917325?pwd=UjkyTEpqVTRWbUowcmhMVWJCZEZUZz09 Meeting ID: 857 2191 7325 Passcode: 288521
UID:e.16.1962
SEQUENCE:3
DTSTAMP:20260420T213611Z
URL:https://chamber.gorenton.com/events/details/legislative-and-transportation-committee-meeting-02-16-2021-1962
END:VEVENT

END:VCALENDAR
