BEGIN:VCALENDAR
VERSION:2.0
PRODID:-//ChamberMaster//Event Calendar 2.0//EN
METHOD:PUBLISH
X-PUBLISHED-TTL:P3D
REFRESH-INTERVAL:P3D
CALSCALE:GREGORIAN
BEGIN:VEVENT
DTSTART:20210720T153000Z
DTEND:20210720T163000Z
X-MICROSOFT-CDO-ALLDAYEVENT:FALSE
SUMMARY:Legislative and Transportation Committee Meeting
DESCRIPTION:This month's topics:  \n\nEast King Chambers Coalition Legislative Papers (Economic Resurgence\, Transportation\, Taxes\, Affordable Housing)\n\nCandidate Meet & Greets (next event July 22nd 6p - 7:30p)\n\nCandidate Forum\n\n****************************************************************************************\n\nThe Legislative and Transportation committee supports chamber membership by advocating for sound business practices at state and local government levels. This includes\, advocacy in Olympia\, developing policy positions\, legislation receptions\, review referendums and initiatives\, and help organize all legislation events of the Chamber.\n\n \n\nThe committee fulfills this by the following methods:\n\n \n\nChamber Day planning\, attending and messaging to our elected officials\n\nAnother day in Olympia to advocate for small business issues given bills proposed\, dropped and in process\n\nOngoing bulletin messages on proposed legislation and tax impacts to business/our members\n\nTransportation presentations throughout the year on changes\, tolling\, etc.\, and communicate to members\n\nWork and develop policy positions with the South KC Coalition that speak to our member's business needs.  This requires ongoing communication with the coalition and business members\n\nPrioritized Renton Chamber legislative priorities and impact to business\n\nLegislative Reception to enable Chamber members to hear from incumbents and candidates\n\nReview referendums\, initiatives and local issues as appropriate for recommendation to the Board\n\nSponsor the Legislative Reception in the fall to introduce candidates to local business
X-ALT-DESC;FMTTYPE=text/html:<p style="color: gray\;"><strong>This month&#39\;s topics:&nbsp\; </strong></p>\n\n<p style="color: gray\;"><strong>East King Chambers Coalition Legislative Papers (Economic Resurgence\, Transportation\, Taxes\, Affordable Housing)</strong></p>\n\n<p style="color: gray\;"><strong>Candidate Meet &amp\; Greets (next event July 22nd 6p - 7:30p)</strong></p>\n\n<p style="color: gray\;"><strong>Candidate Forum</strong></p>\n\n<p style="color: gray\;">****************************************************************************************</p>\n\n<div style="color: gray"><span style="font-size:14px\;"><span style="font-family:tahoma\;"><span style="color:#000000\;">The Legislative and Transportation committee supports chamber membership by advocating for sound business practices at&nbsp\;state and local government levels. This includes\, advocacy in Olympia\, developing policy positions\, legislation receptions\, review referendums and initiatives\, and help organize all legislation events of the Chamber.</span><br />\n&nbsp\;<br />\n<span style="color: #000000">The committee fulfills this by the following methods:<br />\n&nbsp\;<br />\nChamber Day planning\, attending and messaging to our elected officials<br />\nAnother day in Olympia to advocate for small business issues given bills proposed\, dropped and in process<br />\nOngoing bulletin messages on proposed legislation and tax impacts to business/our members<br />\nTransportation presentations throughout the year on changes\, tolling\, etc.\, and communicate to members<br />\nWork and develop policy positions with the South KC Coalition that speak to our member&rsquo\;s business needs.&nbsp\; This requires ongoing communication with the coalition and business members<br />\nPrioritized Renton Chamber legislative priorities and impact to business<br />\nLegislative Reception to enable Chamber members to hear from incumbents and candidates<br />\nReview referendums\, initiatives and local issues as appropriate for recommendation to the Board<br />\nSponsor the Legislative Reception in the fall to introduce candidates to local business&nbsp\;</span></span></span><br />\n&nbsp\;</div>\n
LOCATION:Virtual
UID:e.16.1967
SEQUENCE:3
DTSTAMP:20260420T144639Z
URL:https://chamber.gorenton.com/events/details/legislative-and-transportation-committee-meeting-07-20-2021-1967
END:VEVENT

END:VCALENDAR
