BEGIN:VCALENDAR
VERSION:2.0
PRODID:-//ChamberMaster//Event Calendar 2.0//EN
METHOD:PUBLISH
X-PUBLISHED-TTL:P3D
REFRESH-INTERVAL:P3D
CALSCALE:GREGORIAN
BEGIN:VEVENT
DTSTART:20200915T153000Z
DTEND:20200915T163000Z
X-MICROSOFT-CDO-ALLDAYEVENT:FALSE
SUMMARY:Legislative and Transportation Committee Meeting
DESCRIPTION:The Legislative and Transportation committee supports chamber membership by advocating for sound business practices at state and local government levels. This includes\, advocacy in Olympia\, developing policy positions\, legislation receptions\, review referendums and initiatives\, and help organize all legislation events of the Chamber.\n\n \n\nThe committee fulfills this by the following methods:\n\n \n\nMonthly meetings with legislative representatives used as thought leaders\n\nChamber Day planning\, attending and messaging to our elected officials\n\nAnother day in Olympia to advocate for small business issues given bills proposed\, dropped and in process.\n\nOngoing bulletin messages on proposed legislation and tax impacts to business/our members.\n\nTransportation presentations throughout the year on changes\, tolling\, etc.\, and communicate to members.\n\nWork and develop policy positions with the South KC Coalition that speak to our member's business needs.  This requires ongoing communication with the coalition and business members.\n\nPrioritized Renton Chamber legislative priorities and impact to business.\n\nLegislative Reception to enable Chamber members to hear from incumbents and candidates.\n\nParticipate as a member of the East King County Chambers Legislative Coalition\n\nParticipate as a friend of the South Sound Chambers Legislative Coalition\n\nReview referendums\, initiatives and local issues as appropriate for recommendation to the Board.\n\nSponsor the Legislative Reception in the fall to introduce candidates to local business.
X-ALT-DESC;FMTTYPE=text/html:<div style="color: gray"><br />\n<span style="color:#000000\;"><span style="font-family:arial\;"><span style="font-size:12.0pt\;">The Legislative and Transportation committee supports chamber membership by advocating for sound business practices at&nbsp\;state and local government levels. This includes\, advocacy in Olympia\, developing policy positions\, legislation receptions\, review referendums and initiatives\, and help organize all legislation events of the Chamber.</span></span></span><br />\n<span style="font-family:arial\;">&nbsp\;</span><br />\n<span style="color: #000000"><span style="font-size: 10pt"><span style="font-size: 12px"><span style="font-family: arial">The committee fulfills this by the following methods:<br />\n&nbsp\;<br />\nMonthly meetings with legislative representatives used as thought leaders</span></span></span></span></div>\n\n<div style="color: gray"><span style="color: #000000"><span style="font-size: 10pt"><span style="font-size: 12px"><span style="font-family: arial">Chamber Day planning\, attending and messaging to our elected officials<br />\nAnother day in Olympia to advocate for small business issues given bills proposed\, dropped and in process.<br />\nOngoing bulletin messages on proposed legislation and tax impacts to business/our members.<br />\nTransportation presentations throughout the year on changes\, tolling\, etc.\, and communicate to members.<br />\nWork and develop policy positions with the South KC Coalition that speak to our member&rsquo\;s business needs.&nbsp\; This requires ongoing communication with the coalition and business members.<br />\nPrioritized Renton Chamber legislative priorities and impact to business.<br />\nLegislative Reception to enable Chamber members to hear from incumbents and candidates.<br />\nParticipate as a member of the East King County Chambers Legislative Coalition</span></span></span></span></div>\n\n<div style="color: gray"><span style="color: #000000"><span style="font-size: 10pt"><span style="font-size: 12px"><span style="font-family: arial">Participate as a friend of the South Sound Chambers Legislative Coalition<br />\nReview referendums\, initiatives and local issues as appropriate for recommendation to the Board.<br />\nSponsor the Legislative Reception in the fall to introduce candidates to local business.&nbsp\;</span></span></span></span></div>\n\n<p style="color: gray\;">&nbsp\;</p>\n\n<div style="color: gray"><br />\n&nbsp\;</div>\n
LOCATION:Virtual via Zoom until further notice Join Zoom Meeting https://us02web.zoom.us/j/84837768770?pwd=UjJlQjhQK1BtV2MrVFNTeTc0R2RKdz09 Meeting ID: 848 3776 8770 Passcode: 757390 One tap mobile +12532158782\,\,84837768770#\,\,\,\,\,\,0#\,\,757390# US (Tacoma)
UID:e.16.1957
SEQUENCE:3
DTSTAMP:20260421T035544Z
URL:https://chamber.gorenton.com/events/details/legislative-and-transportation-committee-meeting-09-15-2020-1957
END:VEVENT

END:VCALENDAR
