BEGIN:VCALENDAR
VERSION:2.0
PRODID:-//ChamberMaster//Event Calendar 2.0//EN
METHOD:PUBLISH
X-PUBLISHED-TTL:P3D
REFRESH-INTERVAL:P3D
CALSCALE:GREGORIAN
BEGIN:VEVENT
DTSTART;VALUE=DATE:20220920
DTEND;VALUE=DATE:20220921
TRANSP:TRANSPARENT
X-MICROSOFT-CDO-ALLDAYEVENT:TRUE
SUMMARY:Legislative and Transportation Committee Meeting
DESCRIPTION:NOTE FOLLOW UP TO CRIME & SAFETY STAKE HOLDERS MEETING\n\nRenton Chamber of Commerce is inviting you to a scheduled Zoom meeting. \n\nTopic: Renton Chamber Legislative Meeting \n\nTime: September 6\, 2022  08:30 AM - 9:30 AM  Pacific Time (US and Canada) \n\nEvery month on the Third Tue\, \n\n\n\n\n\nAGENDA\n\nIntroductions\n\nState Feedback on various Crime & Safety Bills and opportunity for questions/answers \n\n     CONFIRMED:\n\n          State Senator Bob Hasegawa\n\n          State Representative Steve Bergquist\n\n          State Representative David Hackney\n\n        \n\nOther Elected Perspective\n\nCandidate Opportunities for Intro\n\nCandidate Forum(s)\n\n     King County Prosecutor  September 29th\n\n     Others?\n\nRenton Business Priority Papers\n\nCity of Renton Legislative Matters\n\n\n\n\n\n***********************************************************\n\nAny day of challenges\, please contact:\n\nDiane Dobson CEO 425.890.9176 cell or 425.226.4560 office\n\n \n\n***********************************************************\n\n Join Zoom Meeting \n\n \n\nhttps://us02web.zoom.us/j/84837768770?pwd=UjJlQjhQK1BtV2MrVFNTeTc0R2RKdz09 \n\nMeeting ID: 848 3776 8770 \n\nPasscode: 757390 \n\n \n\n \n\nOne tap mobile +12532158782\,\,84837768770#\,\,\,\,*757390# US (Tacoma) \n\n\n\n\n\n************************************************************************\n\n\nThe Legislative and Transportation committee supports chamber membership by advocating for sound business practices at state and local government levels. This includes\, advocacy in Olympia\, developing policy positions\, legislation receptions\, review referendums and initiatives\, and help organize all legislation events of the Chamber.\n\n \n\nThe committee fulfills this by the following methods:\n\n \n\nChamber Day planning\, attending and messaging to our elected officials\n\nAnother day in Olympia to advocate for small business issues given bills proposed\, dropped and in process.\n\nOngoing bulletin messages on proposed legislation and tax impacts to business/our members.\n\nTransportation presentations throughout the year on changes\, tolling\, etc.\, and communicate to members.\n\nWork and develop policy positions with the South KC Coalition that speak to our member's business needs.  This requires ongoing communication with the coalition and business members.\n\nPrioritized Renton Chamber legislative priorities and impact to business.\n\nLegislative Reception to enable Chamber members to hear from incumbents and candidates.\n\nInvite all individuals running for election to ask for Chamber endorsement.  Given responses to that and interviews completed by the committee\, recommend the committee's decision to the board for their input/approval and then communication.\n\nReview referendums\, initiatives and local issues as appropriate for recommendation to the Board.\n\nSponsor the Legislative Reception in the fall to introduce candidates to local business.
X-ALT-DESC;FMTTYPE=text/html:<div style="color: gray">\n<div class="x_elementToProof elementToProof" style="border: 0px\; font-variant-numeric: inherit\; font-variant-east-asian: inherit\; font-stretch: inherit\; font-size: 14px\; line-height: inherit\; font-family: &quot\;Segoe UI&quot\;\, &quot\;Segoe UI Web (West European)&quot\;\, &quot\;Segoe UI&quot\;\, -apple-system\, BlinkMacSystemFont\, Roboto\, &quot\;Helvetica Neue&quot\;\, sans-serif\; margin: 0px\; padding: 0px\; vertical-align: baseline\; color: rgb(0\, 0\, 0)\;"><span style="border: 0px\; font: inherit\; margin: 0px\; padding: 0px\; vertical-align: baseline\; color: inherit\; background-color: rgb(255\, 255\, 0)\;">NOTE FOLLOW UP TO CRIME &amp\; SAFETY STAKE HOLDERS MEETING</span></div>\n\n<div class="x_elementToProof elementToProof" style="border: 0px\; font-variant-numeric: inherit\; font-variant-east-asian: inherit\; font-stretch: inherit\; font-size: 14px\; line-height: inherit\; font-family: &quot\;Segoe UI&quot\;\, &quot\;Segoe UI Web (West European)&quot\;\, &quot\;Segoe UI&quot\;\, -apple-system\, BlinkMacSystemFont\, Roboto\, &quot\;Helvetica Neue&quot\;\, sans-serif\; margin: 0px\; padding: 0px\; vertical-align: baseline\; color: rgb(0\, 0\, 0)\;">Renton Chamber of Commerce is inviting you to a scheduled Zoom meeting.&nbsp\;</div>\n\n<div class="x_elementToProof elementToProof" style="border: 0px\; font-variant-numeric: inherit\; font-variant-east-asian: inherit\; font-stretch: inherit\; font-size: 14px\; line-height: inherit\; font-family: &quot\;Segoe UI&quot\;\, &quot\;Segoe UI Web (West European)&quot\;\, &quot\;Segoe UI&quot\;\, -apple-system\, BlinkMacSystemFont\, Roboto\, &quot\;Helvetica Neue&quot\;\, sans-serif\; margin: 0px\; padding: 0px\; vertical-align: baseline\; color: rgb(0\, 0\, 0)\;">Topic: Renton Chamber Legislative Meeting&nbsp\;</div>\n\n<div class="x_elementToProof elementToProof" style="border: 0px\; font-variant-numeric: inherit\; font-variant-east-asian: inherit\; font-stretch: inherit\; font-size: 14px\; line-height: inherit\; font-family: &quot\;Segoe UI&quot\;\, &quot\;Segoe UI Web (West European)&quot\;\, &quot\;Segoe UI&quot\;\, -apple-system\, BlinkMacSystemFont\, Roboto\, &quot\;Helvetica Neue&quot\;\, sans-serif\; margin: 0px\; padding: 0px\; vertical-align: baseline\; color: rgb(0\, 0\, 0)\;">Time: September 6\, 2022&nbsp\; 08:30 AM - 9:30 AM&nbsp\; Pacific Time (US and Canada)&nbsp\;</div>\n\n<div class="x_elementToProof" style="border: 0px\; font-variant-numeric: inherit\; font-variant-east-asian: inherit\; font-stretch: inherit\; font-size: 14px\; line-height: inherit\; font-family: &quot\;Segoe UI&quot\;\, &quot\;Segoe UI Web (West European)&quot\;\, &quot\;Segoe UI&quot\;\, -apple-system\, BlinkMacSystemFont\, Roboto\, &quot\;Helvetica Neue&quot\;\, sans-serif\; margin: 0px\; padding: 0px\; vertical-align: baseline\; color: rgb(0\, 0\, 0)\;">Every month on the Third Tue\,&nbsp\;</div>\n\n<div class="x_elementToProof elementToProof" style="border: 0px\; font-variant-numeric: inherit\; font-variant-east-asian: inherit\; font-stretch: inherit\; font-size: 12pt\; line-height: inherit\; font-family: Calibri\, Arial\, Helvetica\, sans-serif\; margin: 0px\; padding: 0px\; vertical-align: baseline\; color: rgb(0\, 0\, 0)\;"><br />\n<br />\n<b><u>AGENDA</u></b><br />\nIntroductions</div>\n\n<div class="x_elementToProof elementToProof" style="border: 0px\; font-variant-numeric: inherit\; font-variant-east-asian: inherit\; font-stretch: inherit\; font-size: 12pt\; line-height: inherit\; font-family: Calibri\, Arial\, Helvetica\, sans-serif\; margin: 0px\; padding: 0px\; vertical-align: baseline\; color: rgb(0\, 0\, 0)\;"><span style="border: 0px\; font: inherit\; margin: 0px\; padding: 0px\; vertical-align: baseline\; color: inherit\; background-color: rgb(255\, 255\, 0)\;">State Feedback on various Crime &amp\; Safety Bills and opportunity for questions/answers&nbsp\;</span></div>\n\n<div class="x_elementToProof elementToProof" style="border: 0px\; font-variant-numeric: inherit\; font-variant-east-asian: inherit\; font-stretch: inherit\; font-size: 12pt\; line-height: inherit\; font-family: Calibri\, Arial\, Helvetica\, sans-serif\; margin: 0px\; padding: 0px\; vertical-align: baseline\; color: rgb(0\, 0\, 0)\;"><span style="border: 0px\; font: inherit\; margin: 0px\; padding: 0px\; vertical-align: baseline\; color: inherit\; background-color: rgb(255\, 255\, 0)\;">&nbsp\; &nbsp\; &nbsp\;CONFIRMED:</span><br />\n<span style="border: 0px\; font: inherit\; margin: 0px\; padding: 0px\; vertical-align: baseline\; color: inherit\; background-color: rgb(255\, 255\, 0)\;">&nbsp\; &nbsp\; &nbsp\; &nbsp\; &nbsp\; State Senator Bob Hasegawa</span></div>\n\n<div class="x_elementToProof elementToProof" style="border: 0px\; font-variant-numeric: inherit\; font-variant-east-asian: inherit\; font-stretch: inherit\; font-size: 12pt\; line-height: inherit\; font-family: Calibri\, Arial\, Helvetica\, sans-serif\; margin: 0px\; padding: 0px\; vertical-align: baseline\; color: rgb(0\, 0\, 0)\;"><span style="border: 0px\; font: inherit\; margin: 0px\; padding: 0px\; vertical-align: baseline\; color: inherit\; background-color: rgb(255\, 255\, 0)\;">&nbsp\; &nbsp\; &nbsp\; &nbsp\; &nbsp\; State Representative Steve Bergquist</span><br />\n&nbsp\;&nbsp\;&nbsp\;&nbsp\;&nbsp\;<span style="color: inherit\; font: inherit\; border: 0px\; margin: 0px\; padding: 0px\; vertical-align: baseline\; background-color: rgb(255\, 255\, 0)\;">&nbsp\;&nbsp\; &nbsp\; State Representative David Hackney</span><br />\n<span style="color: rgb(0\, 0\, 0)\; font-family: Calibri\, Arial\, Helvetica\, sans-serif\; font-size: 16px\;">&nbsp\;&nbsp\;&nbsp\;&nbsp\;</span><span style="color: rgb(0\, 0\, 0)\; font-family: Calibri\, Arial\, Helvetica\, sans-serif\; font-size: 16px\;">&nbsp\;</span>&nbsp\;&nbsp\;&nbsp\;<br />\nOther Elected Perspective<br />\nCandidate Opportunities for Intro</div>\n\n<div class="x_elementToProof elementToProof" style="border: 0px\; font-variant-numeric: inherit\; font-variant-east-asian: inherit\; font-stretch: inherit\; font-size: 12pt\; line-height: inherit\; font-family: Calibri\, Arial\, Helvetica\, sans-serif\; margin: 0px\; padding: 0px\; vertical-align: baseline\; color: rgb(0\, 0\, 0)\;">Candidate Forum(s)<br />\n&nbsp\; &nbsp\; &nbsp\;King County Prosecutor&nbsp\; September 29th<br />\n&nbsp\; &nbsp\; &nbsp\;Others?</div>\n\n<div class="x_elementToProof elementToProof" style="border: 0px\; font-variant-numeric: inherit\; font-variant-east-asian: inherit\; font-stretch: inherit\; font-size: 12pt\; line-height: inherit\; font-family: Calibri\, Arial\, Helvetica\, sans-serif\; margin: 0px\; padding: 0px\; vertical-align: baseline\; color: rgb(0\, 0\, 0)\;"><span style="border: 0px\; font-style: inherit\; font-variant: inherit\; font-weight: inherit\; font-stretch: inherit\; font-size: 12pt\; line-height: inherit\; font-family: inherit\; margin: 0px\; padding: 0px\; vertical-align: baseline\; color: inherit\;">Renton Business Priority Papers</span></div>\n\n<div class="x_elementToProof" style="border: 0px\; font-variant-numeric: inherit\; font-variant-east-asian: inherit\; font-stretch: inherit\; font-size: 12pt\; line-height: inherit\; font-family: Calibri\, Arial\, Helvetica\, sans-serif\; margin: 0px\; padding: 0px\; vertical-align: baseline\; color: rgb(0\, 0\, 0)\;"><span style="border: 0px\; font-style: inherit\; font-variant: inherit\; font-weight: inherit\; font-stretch: inherit\; font-size: 12pt\; line-height: inherit\; font-family: inherit\; margin: 0px\; padding: 0px\; vertical-align: baseline\; color: inherit\;"><span style="border: 0px\; font: inherit\; margin: 0px\; padding: 0px\; vertical-align: baseline\; color: inherit\;">City of Renton Legislative Matters</span></span></div>\n\n<div class="x_elementToProof" style="border: 0px\; font-variant-numeric: inherit\; font-variant-east-asian: inherit\; font-stretch: inherit\; font-size: 12pt\; line-height: inherit\; font-family: Calibri\, Arial\, Helvetica\, sans-serif\; margin: 0px\; padding: 0px\; vertical-align: baseline\; color: rgb(0\, 0\, 0)\;"><br />\n<br />\n***********************************************************</div>\n\n<div class="x_elementToProof" style="border: 0px\; font-variant-numeric: inherit\; font-variant-east-asian: inherit\; font-stretch: inherit\; font-size: 12pt\; line-height: inherit\; font-family: Calibri\, Arial\, Helvetica\, sans-serif\; margin: 0px\; padding: 0px\; vertical-align: baseline\; color: rgb(0\, 0\, 0)\;">Any day of challenges\, please contact:<br />\nDiane Dobson CEO 425.890.9176 cell or 425.226.4560 office</div>\n\n<div class="x_elementToProof" style="border: 0px\; font-variant-numeric: inherit\; font-variant-east-asian: inherit\; font-stretch: inherit\; font-size: 14px\; line-height: inherit\; font-family: &quot\;Segoe UI&quot\;\, &quot\;Segoe UI Web (West European)&quot\;\, &quot\;Segoe UI&quot\;\, -apple-system\, BlinkMacSystemFont\, Roboto\, &quot\;Helvetica Neue&quot\;\, sans-serif\; margin: 0px\; padding: 0px\; vertical-align: baseline\; color: rgb(0\, 0\, 0)\;">&nbsp\;</div>\n\n<div class="x_elementToProof" style="border: 0px\; font-variant-numeric: inherit\; font-variant-east-asian: inherit\; font-stretch: inherit\; font-size: 12pt\; line-height: inherit\; font-family: Calibri\, Arial\, Helvetica\, sans-serif\; margin: 0px\; padding: 0px\; vertical-align: baseline\; color: rgb(0\, 0\, 0)\;">***********************************************************</div>\n\n<div class="x_elementToProof" style="border: 0px\; font-variant-numeric: inherit\; font-variant-east-asian: inherit\; font-stretch: inherit\; font-size: 14px\; line-height: inherit\; font-family: &quot\;Segoe UI&quot\;\, &quot\;Segoe UI Web (West European)&quot\;\, &quot\;Segoe UI&quot\;\, -apple-system\, BlinkMacSystemFont\, Roboto\, &quot\;Helvetica Neue&quot\;\, sans-serif\; margin: 0px\; padding: 0px\; vertical-align: baseline\; color: rgb(0\, 0\, 0)\;">&nbsp\;Join Zoom Meeting&nbsp\;</div>\n\n<div class="x_elementToProof" style="border: 0px\; font-variant-numeric: inherit\; font-variant-east-asian: inherit\; font-stretch: inherit\; font-size: 14px\; line-height: inherit\; font-family: &quot\;Segoe UI&quot\;\, &quot\;Segoe UI Web (West European)&quot\;\, &quot\;Segoe UI&quot\;\, -apple-system\, BlinkMacSystemFont\, Roboto\, &quot\;Helvetica Neue&quot\;\, sans-serif\; margin: 0px\; padding: 0px\; vertical-align: baseline\; color: rgb(0\, 0\, 0)\;">&nbsp\;</div>\n\n<div class="x_elementToProof" style="border: 0px\; font-variant-numeric: inherit\; font-variant-east-asian: inherit\; font-stretch: inherit\; font-size: 14px\; line-height: inherit\; font-family: &quot\;Segoe UI&quot\;\, &quot\;Segoe UI Web (West European)&quot\;\, &quot\;Segoe UI&quot\;\, -apple-system\, BlinkMacSystemFont\, Roboto\, &quot\;Helvetica Neue&quot\;\, sans-serif\; margin: 0px\; padding: 0px\; vertical-align: baseline\; color: rgb(0\, 0\, 0)\;"><a data-auth="NotApplicable" href="https://us02web.zoom.us/j/84837768770?pwd=UjJlQjhQK1BtV2MrVFNTeTc0R2RKdz09" rel="noopener noreferrer" style="border: 0px\; font: inherit\; margin: 0px\; padding: 0px\; vertical-align: baseline\;" target="_blank" title="https://us02web.zoom.us/j/84837768770?pwd=UjJlQjhQK1BtV2MrVFNTeTc0R2RKdz09 ">https://us02web.zoom.us/j/84837768770?pwd=UjJlQjhQK1BtV2MrVFNTeTc0R2RKdz09&nbsp\;</a></div>\n\n<div class="x_elementToProof" style="border: 0px\; font-variant-numeric: inherit\; font-variant-east-asian: inherit\; font-stretch: inherit\; font-size: 14px\; line-height: inherit\; font-family: &quot\;Segoe UI&quot\;\, &quot\;Segoe UI Web (West European)&quot\;\, &quot\;Segoe UI&quot\;\, -apple-system\, BlinkMacSystemFont\, Roboto\, &quot\;Helvetica Neue&quot\;\, sans-serif\; margin: 0px\; padding: 0px\; vertical-align: baseline\; color: rgb(0\, 0\, 0)\;">Meeting ID: 848 3776 8770&nbsp\;</div>\n\n<div class="x_elementToProof" style="border: 0px\; font-variant-numeric: inherit\; font-variant-east-asian: inherit\; font-stretch: inherit\; font-size: 14px\; line-height: inherit\; font-family: &quot\;Segoe UI&quot\;\, &quot\;Segoe UI Web (West European)&quot\;\, &quot\;Segoe UI&quot\;\, -apple-system\, BlinkMacSystemFont\, Roboto\, &quot\;Helvetica Neue&quot\;\, sans-serif\; margin: 0px\; padding: 0px\; vertical-align: baseline\; color: rgb(0\, 0\, 0)\;">Passcode: 757390&nbsp\;</div>\n\n<div class="x_elementToProof" style="border: 0px\; font-variant-numeric: inherit\; font-variant-east-asian: inherit\; font-stretch: inherit\; font-size: 12pt\; line-height: inherit\; font-family: Calibri\, Arial\, Helvetica\, sans-serif\; margin: 0px\; padding: 0px\; vertical-align: baseline\; color: rgb(0\, 0\, 0)\;">&nbsp\;</div>\n\n<div class="x_elementToProof" style="border: 0px\; font-variant-numeric: inherit\; font-variant-east-asian: inherit\; font-stretch: inherit\; font-size: 12pt\; line-height: inherit\; font-family: Calibri\, Arial\, Helvetica\, sans-serif\; margin: 0px\; padding: 0px\; vertical-align: baseline\; color: rgb(0\, 0\, 0)\;">&nbsp\;</div>\n\n<div class="x_elementToProof" style="border: 0px\; font-variant-numeric: inherit\; font-variant-east-asian: inherit\; font-stretch: inherit\; font-size: 14px\; line-height: inherit\; font-family: &quot\;Segoe UI&quot\;\, &quot\;Segoe UI Web (West European)&quot\;\, &quot\;Segoe UI&quot\;\, -apple-system\, BlinkMacSystemFont\, Roboto\, &quot\;Helvetica Neue&quot\;\, sans-serif\; margin: 0px\; padding: 0px\; vertical-align: baseline\; color: rgb(0\, 0\, 0)\;">One tap mobile +12532158782\,\,84837768770#\,\,\,\,*757390# US (Tacoma)&nbsp\;<br />\n<br />\n<br />\n************************************************************************</div>\n<br style="color: rgb(128\, 128\, 128)\;" />\n<span style="color: rgb(0\, 0\, 0)\;"><span style="font-family: arial\;"><span style="font-size: 12pt\;">The Legislative and Transportation committee supports chamber membership by advocating for sound business practices at&nbsp\;state and local government levels. This includes\, advocacy in Olympia\, developing policy positions\, legislation receptions\, review referendums and initiatives\, and help organize all legislation events of the Chamber.</span></span></span><br style="color: rgb(128\, 128\, 128)\;" />\n<span style="color: rgb(128\, 128\, 128)\; font-family: arial\;">&nbsp\;</span><br style="color: rgb(128\, 128\, 128)\;" />\n<span style="color: rgb(0\, 0\, 0)\;"><span style="font-size: 10pt\;"><span style="font-size: 12px\;"><span style="font-family: arial\;">The committee fulfills this by the following methods:<br />\n&nbsp\;<br />\nChamber Day planning\, attending and messaging to our elected officials<br />\nAnother day in Olympia to advocate for small business issues given bills proposed\, dropped and in process.<br />\nOngoing bulletin messages on proposed legislation and tax impacts to business/our members.<br />\nTransportation presentations throughout the year on changes\, tolling\, etc.\, and communicate to members.<br />\nWork and develop policy positions with the South KC Coalition that speak to our member&rsquo\;s business needs.&nbsp\; This requires ongoing communication with the coalition and business members.<br />\nPrioritized Renton Chamber legislative priorities and impact to business.<br />\nLegislative Reception to enable Chamber members to hear from incumbents and candidates.<br />\nInvite all individuals running for election to ask for Chamber endorsement. &nbsp\;Given responses to that and interviews completed by the committee\, recommend the committee&rsquo\;s decision to the board for their input/approval and then communication.<br />\nReview referendums\, initiatives and local issues as appropriate for recommendation to the Board.<br />\nSponsor the Legislative Reception in the fall to introduce candidates to local business.&nbsp\;</span></span></span></span></div>\n
LOCATION:Currently meets virtually via Zoom.
UID:e.16.1981
SEQUENCE:3
DTSTAMP:20260419T190154Z
URL:https://chamber.gorenton.com/events/details/legislative-and-transportation-committee-meeting-09-20-2022-1981
END:VEVENT

END:VCALENDAR
