BEGIN:VCALENDAR
VERSION:2.0
PRODID:-//ChamberMaster//Event Calendar 2.0//EN
METHOD:PUBLISH
X-PUBLISHED-TTL:P3D
REFRESH-INTERVAL:P3D
CALSCALE:GREGORIAN
BEGIN:VEVENT
DTSTART:20200727T180000Z
DTEND:20200727T190000Z
X-MICROSOFT-CDO-ALLDAYEVENT:FALSE
SUMMARY:Let's Talk PPP (and other business advocacy)
DESCRIPTION:Are all of the changes with PPP confusing to you as they are to us?  Are you wondering what's forgivable\, what the new acts amend and change\, what the deadlines are?  \n\nJoin in in conversation with Chris Eyler\, from the US Chamber of Commerce (business' biggest advocate) and learn not only more about the PPP --- but also about some of the advocacy that the US Chamber has been doing in Washington ..... the OTHER Washington!\n\nA great opportunity for questions and answers and better understanding!
X-ALT-DESC;FMTTYPE=text/html:<p>Are all of the changes with PPP confusing to you as they are to us?&nbsp\; Are you wondering what's forgivable\, what the new acts amend and change\, what the deadlines are?&nbsp\;&nbsp\;</p>\n\n<p>Join in in conversation with Chris Eyler\, from the US Chamber of Commerce (business' biggest advocate) and learn not only more about the PPP --- but also about some of the advocacy that the US Chamber has been doing in Washington ..... the OTHER Washington!</p>\n\n<p>A great opportunity for questions and answers and better understanding!</p>\n
LOCATION:ZOOM: Register in advance for this meeting: https://us02web.zoom.us/meeting/register/tZwkde-upzsoGtWj_foF0dWCpgIBufVFp9hK
UID:e.16.6792
SEQUENCE:3
DTSTAMP:20260421T065846Z
URL:https://chamber.gorenton.com/events/details/let-s-talk-ppp-and-other-business-advocacy-6792
END:VEVENT

END:VCALENDAR
