BEGIN:VCALENDAR
VERSION:2.0
PRODID:-//ChamberMaster//Event Calendar 2.0//EN
METHOD:PUBLISH
X-PUBLISHED-TTL:P3D
REFRESH-INTERVAL:P3D
CALSCALE:GREGORIAN
BEGIN:VEVENT
DTSTART:20220421T210000Z
DTEND:20220421T220000Z
X-MICROSOFT-CDO-ALLDAYEVENT:FALSE
SUMMARY:Life at The Lakeshore - Resident Panel Discussion
DESCRIPTION:Ever wonder what it's like to live at The Lakeshore? Here's your chance to hear directly from our residents! During this panel discussion\, residents will answer participant questions and some of the most frequently asked questions we receive on senior living and our community. Don't miss this important event!\n\n\n\nplease RSVP by April 20th. Space is limited. Refreshments served.\n\nGuests are asked to be vaccinated as well as wear a mask during the presentation.
X-ALT-DESC;FMTTYPE=text/html:Ever wonder what it&rsquo\;s like to live at The Lakeshore? Here&rsquo\;s your chance to hear directly from our residents! During this panel discussion\, residents will answer participant questions and some of the most frequently asked questions we receive on senior living and our community. Don&rsquo\;t miss this important event!<br />\n<br />\nplease RSVP by April 20th. Space is limited. Refreshments served.<br />\nGuests are asked to be vaccinated as well as wear a mask during the presentation.
LOCATION:The Lakeshore Retirement Community - The Lakeview Dining Room
UID:e.16.11468
SEQUENCE:3
DTSTAMP:20260420T014312Z
URL:https://chamber.gorenton.com/events/details/life-at-the-lakeshore-resident-panel-discussion-11468
END:VEVENT

END:VCALENDAR
