BEGIN:VCALENDAR
VERSION:2.0
PRODID:-//ChamberMaster//Event Calendar 2.0//EN
METHOD:PUBLISH
X-PUBLISHED-TTL:P3D
REFRESH-INTERVAL:P3D
CALSCALE:GREGORIAN
BEGIN:VEVENT
DTSTART:20221215T230000Z
DTEND:20221216T030000Z
X-MICROSOFT-CDO-ALLDAYEVENT:FALSE
SUMMARY:Live Reindeer and Santa Photos!
DESCRIPTION:It's the most wonderful time of the year! Come enjoy the spirit of the season with the whole family at Weatherly Inn!\n\n \n\nLive Reindeer and Santa Photos on Thursday\, December 15th from 3-7pm.\n\n \n\nSanta photos are complimentary!
X-ALT-DESC;FMTTYPE=text/html:<div>It&rsquo\;s the most wonderful time of the year! Come enjoy the spirit of the season with the whole family at Weatherly Inn!<br />\n&nbsp\;</div>\n\n<div>Live Reindeer and Santa Photos on Thursday\, December 15th from 3-7pm.<br />\n&nbsp\;</div>\n\n<div>Santa photos are complimentary!</div>\n
LOCATION:Weatherly Inn Renton 4550 Talbot Road S Renton\, WA 98055
UID:e.16.13645
SEQUENCE:3
DTSTAMP:20260419T151140Z
URL:https://chamber.gorenton.com/events/details/live-reindeer-and-santa-photos-13645
END:VEVENT

END:VCALENDAR
