BEGIN:VCALENDAR
VERSION:2.0
PRODID:-//ChamberMaster//Event Calendar 2.0//EN
METHOD:PUBLISH
X-PUBLISHED-TTL:P3D
REFRESH-INTERVAL:P3D
CALSCALE:GREGORIAN
BEGIN:VEVENT
DTSTART:20190831T160000Z
DTEND:20190831T200000Z
X-MICROSOFT-CDO-ALLDAYEVENT:FALSE
SUMMARY:(Love in Action- Chamber Landscaping)- CANCELLED
DESCRIPTION:This event has been CANCELLED!\n\nJoin us in an opportunity to serve our city at the\n\nRenton Chamber of Commerce Building.\n\nOur work project will be\n\nlandscape cleaning and pruning!\n\nMany hands will make light work!\n\nAll are welcome to join us!\n\nPlease bring your own gardening tools!\n\nPlease label them so they return home with you too!\n\nLight snacks and water will be provided.
X-ALT-DESC;FMTTYPE=text/html:<strong><span style="color:#FF0000\;">This event has been CANCELLED!</span></strong><br />\n<s>Join us in an opportunity to serve our city at the<br />\nRenton Chamber of Commerce Building.<br />\nOur work project will be<br />\nlandscape cleaning and pruning!<br />\nMany hands will make light work!<br />\nAll are welcome to join us!<br />\nPlease bring your own gardening tools!<br />\nPlease label them so they return home with you too!<br />\nLight snacks and water will be provided.</s>
LOCATION:Renton Chamber of Commerce 625 S 4th St. Renton\, WA 98057
UID:e.16.6611
SEQUENCE:3
DTSTAMP:20260423T232636Z
URL:https://chamber.gorenton.com/events/details/love-in-action-chamber-landscaping-cancelled-6611
END:VEVENT

END:VCALENDAR
