BEGIN:VCALENDAR
VERSION:2.0
PRODID:-//ChamberMaster//Event Calendar 2.0//EN
METHOD:PUBLISH
X-PUBLISHED-TTL:P3D
REFRESH-INTERVAL:P3D
CALSCALE:GREGORIAN
BEGIN:VEVENT
DTSTART:20220902T180000Z
DTEND:20220903T020000Z
X-MICROSOFT-CDO-ALLDAYEVENT:FALSE
SUMMARY:Macadons Grand Opening & Ribbon Cutting Ceremony
DESCRIPTION:On Friday\, September 2nd at 11a we will gather to cut the biggest ribbon and welcome Macadons to their new location.\n\nMacadons will also be announcing the top 3 finalists for their $10\,000 mural contest!
X-ALT-DESC;FMTTYPE=text/html:<div style="text-align: center\;"><strong><span style="font-size:16px\;"><span style="font-family:times new roman\;"><span data-font-id="undefined" style="color: rgb(49\, 50\, 52)\;">On Friday\, September 2nd&nbsp\;at 11a we will gather to cut the biggest ribbon and welcome Macadons to their new location.</span></span></span></strong></div>\n\n<div style="text-align: center\;"><span style="font-size:22px\;"><strong><span style="font-family:times new roman\;"><span data-font-id="undefined" style="color: rgb(49\, 50\, 52)\;">Macadons will also be announcing the top 3 finalists for their $10\,000 mural contest!</span></span></strong></span></div>\n\n<p style="text-align: center">&nbsp\;</p>\n
LOCATION:826 S 3rd St\, Renton
UID:e.16.13563
SEQUENCE:3
DTSTAMP:20260419T190027Z
URL:https://chamber.gorenton.com/events/details/macadons-grand-opening-ribbon-cutting-ceremony-13563
END:VEVENT

END:VCALENDAR
