BEGIN:VCALENDAR
VERSION:2.0
PRODID:-//ChamberMaster//Event Calendar 2.0//EN
METHOD:PUBLISH
X-PUBLISHED-TTL:P3D
REFRESH-INTERVAL:P3D
CALSCALE:GREGORIAN
BEGIN:VEVENT
DTSTART:20190718T210000Z
DTEND:20190718T230000Z
X-MICROSOFT-CDO-ALLDAYEVENT:FALSE
SUMMARY:Mahjong Tournament
DESCRIPTION:Join us for an afternoon of fun and play at our Mahjong Tournament! Experienced and beginner players are all welcomed. There will snacks\, beverages\, prizes for all while quantities last. Space is limited\, so RSVP with your style of play Chinese or American. Come meet new friends at The Lakeshore.
X-ALT-DESC;FMTTYPE=text/html:Join us for an afternoon of fun and play at our Mahjong Tournament! Experienced and beginner players are all welcomed. There will snacks\, beverages\, prizes for all while quantities last. Space is limited\, so RSVP with your style of play Chinese or American. Come meet new friends at The Lakeshore.
LOCATION:The Lakeshore 11448 Rainier Ave S Seattle\, WA 98178
UID:e.16.6582
SEQUENCE:3
DTSTAMP:20260424T004918Z
URL:https://chamber.gorenton.com/events/details/mahjong-tournament-07-18-2019-6582
END:VEVENT

END:VCALENDAR
