BEGIN:VCALENDAR
VERSION:2.0
PRODID:-//ChamberMaster//Event Calendar 2.0//EN
METHOD:PUBLISH
X-PUBLISHED-TTL:P3D
REFRESH-INTERVAL:P3D
CALSCALE:GREGORIAN
BEGIN:VEVENT
DTSTART:20190316T203000Z
DTEND:20190316T223000Z
X-MICROSOFT-CDO-ALLDAYEVENT:FALSE
SUMMARY:Manbiki Kazoku (Shoplifters) 2018 Free Film Screening + Discussion 3-16-19
DESCRIPTION:Synopsis: On the margins of Tokyo\, a dysfunctional band of outsiders is united by fierce loyalty and a penchant for petty theft. When the young son is arrested\, secrets are exposed that upend their tenuous\, below-the-radar existence.
X-ALT-DESC;FMTTYPE=text/html:Synopsis: On the margins of Tokyo\, a dysfunctional band of outsiders is united by fierce loyalty and a penchant for petty theft. When the young son is arrested\, secrets are exposed that upend their tenuous\, below-the-radar existence.
LOCATION:Renton Public KCLS Main Library\, King Parker Meeting Room\, 100 Mill Ave S\, Renton\, WA 98057\, 425-226-6043
UID:e.16.6249
SEQUENCE:3
DTSTAMP:20260424T065423Z
URL:https://chamber.gorenton.com/events/details/manbiki-kazoku-shoplifters-2018-free-film-screening-discussion-3-16-19-6249
END:VEVENT

END:VCALENDAR
