BEGIN:VCALENDAR
VERSION:2.0
PRODID:-//ChamberMaster//Event Calendar 2.0//EN
METHOD:PUBLISH
X-PUBLISHED-TTL:P3D
REFRESH-INTERVAL:P3D
CALSCALE:GREGORIAN
BEGIN:VEVENT
DTSTART:20190427T210000Z
DTEND:20190427T230500Z
X-MICROSOFT-CDO-ALLDAYEVENT:FALSE
SUMMARY:Manyeo (The Witch: Part 1. The Subversion) 2018 Free Film Screening 4-27-19
DESCRIPTION:10 years ago\, Ja-yoon escaped from a government facility in the midst of an inexplicable incident by herself and lost all her memory. An old couple takes her in even though she doesn't know her name or age. She grows up to be a bright high school student and enters a nationally televised audition program to win the top prize and help her struggling family out. As soon as she appears on TV\, strange people start appearing in her life. A man named 'Nobleman' constantly roams around her\, in addition to 'Dr. Baek' and 'Mr. Choi' who have been searching for her since her disappearance. Ja-yoon's life falls into turmoil as they turn her seemingly ordinary life upside down in a blink of an eye.
X-ALT-DESC;FMTTYPE=text/html:10 years ago\, Ja-yoon escaped from a government facility in the midst of an inexplicable incident by herself and lost all her memory. An old couple takes her in even though she doesn&rsquo\;t know her name or age. She grows up to be a bright high school student and enters a nationally televised audition program to win the top prize and help her struggling family out. As soon as she appears on TV\, strange people start appearing in her life. A man named &lsquo\;Nobleman&rsquo\; constantly roams around her\, in addition to &lsquo\;Dr. Baek&rsquo\; and &lsquo\;Mr. Choi&rsquo\; who have been searching for her since her disappearance. Ja-yoon&rsquo\;s life falls into turmoil as they turn her seemingly ordinary life upside down in a blink of an eye.
LOCATION:Renton Public KCLS Main Library\, King Parker Meeting Room 100 Mill Ave S\, Renton WA 98057 425-226-6043\; https://goo.gl/maps/uUPSDqQAxzs
UID:e.16.6482
SEQUENCE:3
DTSTAMP:20260424T052741Z
URL:https://chamber.gorenton.com/events/details/manyeo-the-witch-part-1-the-subversion-2018-free-film-screening-4-27-19-6482
END:VEVENT

END:VCALENDAR
