BEGIN:VCALENDAR
VERSION:2.0
PRODID:-//ChamberMaster//Event Calendar 2.0//EN
METHOD:PUBLISH
X-PUBLISHED-TTL:P3D
REFRESH-INTERVAL:P3D
CALSCALE:GREGORIAN
BEGIN:VEVENT
DTSTART:20180316T000000Z
DTEND:20180316T020000Z
X-MICROSOFT-CDO-ALLDAYEVENT:FALSE
SUMMARY:March After Hours & Ribbon Cutting: Rosie Rourke Team
DESCRIPTION:Join the Rosie Rourke real estate team for a toast to 2018 and a celebration of being in the Renton/Fairwood area for over 25 years!\n\n\n\n Appetizers and drinks will be provided. You simply bring your smiling face and perhaps a guest or two. We'll cut the ribbon and celebrate the Rosie Rourke team as one of our newest Chamber members.\n\n\n\n Mission:\n\nThe Rosie Rourke Team offers award winning\, concierge real estate services\, ensuring an all-inclusive stress-free real estate experience. We are dedicated to developing long term relationships supported by community involvement. We value your needs above all else. You will benefit from our well trained\, ethical and nationally ranked real estate team with over 40 years combined experience.
X-ALT-DESC;FMTTYPE=text/html:<br />\n<br />\nJoin the Rosie Rourke real estate team for a toast to 2018 and a celebration of being in the Renton/Fairwood area for over 25 years!<br />\n<br />\n&#8203\;Appetizers and drinks will be provided. You simply bring your smiling face and perhaps a guest or two. We&#39\;ll cut the ribbon and celebrate the Rosie Rourke team as one of our newest Chamber members.<br />\n<br />\n&#8203\;<strong>Mission:</strong>\n\n<p style="margin: 0px 0px 10.66px\;"><font face="Calibri">The Rosie Rourke Team offers award winning\, concierge real estate services\, ensuring an all-inclusive stress-free real estate experience. We are dedicated to developing long term relationships supported by community involvement. We value your needs above all else. You will benefit from our well trained\, ethical and nationally ranked real estate team with over 40 years combined experience. </font></p>\n
LOCATION:John L. Scott Kent North 20829 72nd Ave S Suite 800 Kent\, Washington 98032
UID:e.16.5739
SEQUENCE:3
DTSTAMP:20260425T005709Z
URL:https://chamber.gorenton.com/events/details/march-after-hours-ribbon-cutting-rosie-rourke-team-5739
END:VEVENT

END:VCALENDAR
