BEGIN:VCALENDAR
VERSION:2.0
PRODID:-//ChamberMaster//Event Calendar 2.0//EN
METHOD:PUBLISH
X-PUBLISHED-TTL:P3D
REFRESH-INTERVAL:P3D
CALSCALE:GREGORIAN
BEGIN:VEVENT
DTSTART:20211123T230000Z
DTEND:20211124T030000Z
X-MICROSOFT-CDO-ALLDAYEVENT:FALSE
SUMMARY:Maverick Cares Thanksgiving Community Event
DESCRIPTION:About Maverick Cares\n\nMaverick Cares is a 501(c)3 non-profit that is an employee-led philanthropic branch of Maverick Gaming. Our mission is centered around identifying the most vulnerable families within the communities we operate in and working to provide those families with vital resources like meals\, supplies\, and connections to goods/services. \n\nWhat makes Maverick Cares different than your typical auction/charity program\, is that we have a commitment to building a network of support so families will not only be provided with immediate resources like food but will also be exposed to a network of local resources that can provide ongoing and sustainable support. \n\nThanksgiving "Feed a Family of Four"\n\nEach fall\, Maverick provides a full Thanksgiving meal to families which is distributed through local charities such as the United Way\, the YMCA\, HopeLink\, and many more. These charities identify families and provide vouchers directing them to the pick-up locations in their community.\n\nDuring the holidays\, it is easy and obvious to provide food for a Thanksgiving meal but we feel that with your donation we are giving families something extra special that they can use for a family outing\, meal\, or event. By giving families receive these little "extras" you are making a huge difference by helping them feel special\, like other families\, because sometimes something as small as a trip to a museum\, movie tickets\, and even something as simple as an ice cream cone is a luxury item they can't typically afford.\n\nWhat we Need\n\nOver the past year\, we have reached out to hundreds of local businesses to provide an avenue for them to give back to folks across the state. Our hope is that with your help\, our community events can grow and be a place where families in need can go to gain access to a multitude of different resources. \n\nYour donation will be given to people who live in your area. This ensures that your businesses will be utilized by people living in your community.\n\nIf there is are good/service your business is willing to provide to families in need\, we would love to hear from you and help coordinate your involvement in this unique program that gives back to families in your local area. \n\nWe are specifically looking for:\n\nGift Cards - Coupons - Discount Certificates  - Admission/Passes - Tickets - Services\n\nIf your business is interested in a monetary donation our sponsorship levels are:\n\n$250 - 4 families of 4\n\n$500 - 8 families\n\n$750 - 12 families\n\n$1000 - 15 families\n\n$5000 - Spotlight Event Sponsor - contact us to find out the incredible benefits that come with this sponsorship level!\n\nWhat's in it for you?\n\nYour business will receive the following amazing benefits with your confirmed donation:\n\n\n	Your logo and information will go to families in your area \n	With your permission\, we will add you to our press release about Maverick Cares\, which is typically covered by KOMO 4 news- check out some of our past ones here: https://www.maverickgaming.com/maverick-cares-thanksgiving-2020\n	A spotlight on our "Maverick Cares Recognition Wall."  At each of our locations we have a Maverick Cares Community Partner recognition wall that will include your company name\, location\, and logo framed in our entry hallway.\n	We add your name and information to our website check it out here: https://www.maverickgaming.com/maverick-gaming-cares\n	We announce your partnership on our social media platform and on our websites.  \n	We can send exclusive offers to our 2\,000+ employees to help generate revenue for your business.\n	You can be mentioned in our Chambers of Commerce newsletters and local news paper ads we run about Maverick Cares.\n	You can also join us at one of our locations during the event where you can not only provide your good/service directly to people in need\, but you can also interact with Community Leaders that attend our events including Mayors\, Chamber members\, and elected officials.\n\n\nHow to Donate: \n\nContact Sara Stewart at:\n\nEmail: sara.stewart@maverickgaming.com\n\nPhone: 360-229-8168
X-ALT-DESC;FMTTYPE=text/html:<p><span style="color:#B22222"><strong>About Maverick Cares</strong></span><br />\nMaverick Cares is a 501(c)3 non-profit that is an employee-led philanthropic branch of Maverick Gaming. Our mission is centered around identifying the most vulnerable families within the communities we operate in and working to provide those families with vital resources like meals\, supplies\, and connections to goods/services.&nbsp\;</p>\n\n<p>What makes Maverick Cares different than your typical auction/charity program\, is that we have a commitment to building a network of support so families will not only be provided with immediate resources like food but will also be exposed to a network of local resources that can provide ongoing and sustainable support.&nbsp\;</p>\n\n<p><strong><span style="color:#B22222">Thanksgiving &ldquo\;Feed a Family of Four&rdquo\;</span></strong><br />\nEach fall\, Maverick provides a full Thanksgiving meal to families which is distributed through local charities such as the United Way\, the YMCA\, HopeLink\, and many more. These charities identify families and provide vouchers directing them to the pick-up locations in their community.</p>\n\n<p>During the holidays\, it is easy and obvious to provide food for a Thanksgiving meal but we feel that with your donation we are giving families something extra special that they can use for a family outing\, meal\, or event. By giving families receive these little &ldquo\;extras&rdquo\; you are making a huge difference by helping them feel special\, like other families\, because sometimes something as small as a trip to a museum\, movie tickets\, and even something as simple as an ice cream cone is a luxury item they can&rsquo\;t typically afford.</p>\n\n<p><span style="color:#B22222"><strong>What we Need</strong></span><br />\nOver the past year\, we have reached out to hundreds of local businesses to provide an avenue for them to give back to folks across the state. Our hope is that with your help\, our community events can grow and be a place where families in need can go to gain access to a multitude of different resources.&nbsp\;</p>\n\n<p><em>Your donation will be given to people who live in your area. This ensures that your businesses will be utilized by people living in your community.</em></p>\n\n<p><strong>If there is are good/service your business is willing to provide to families in need\, we would love to hear from you and help coordinate your involvement in this unique program that gives back to families in your local area.&nbsp\;</strong></p>\n\n<p><strong>We are specifically looking for:</strong></p>\n\n<p>Gift Cards - Coupons - Discount Certificates &nbsp\;- Admission/Passes - Tickets - Services</p>\n\n<p>If your business is interested in a monetary donation our sponsorship levels are:</p>\n\n<p>$250 - 4 families of 4<br />\n$500 - 8 families<br />\n$750 - 12 families<br />\n$1000 - 15 families<br />\n$5000 - Spotlight Event Sponsor - contact us to find out the incredible benefits that come with this sponsorship level!</p>\n\n<p><span style="color:#B22222"><strong>What&rsquo\;s in it for you?</strong></span><br />\nYour business will receive the following amazing benefits with your confirmed donation:</p>\n\n<ol>\n	<li>Your logo and information will go to families in your area&nbsp\;</li>\n	<li>With your permission\, we will add you to our press release about Maverick Cares\, which is typically covered by KOMO 4 news- check out some of our past ones here: <a href="https://www.maverickgaming.com/maverick-cares-thanksgiving-2020">https://www.maverickgaming.com/maverick-cares-thanksgiving-2020</a></li>\n	<li>A spotlight on our &ldquo\;Maverick Cares Recognition Wall.&rdquo\;&nbsp\; At each of our locations we have a Maverick Cares Community Partner recognition wall that will include your company name\, location\, and logo framed in our entry hallway.</li>\n	<li>We add your name and information to our website check it out here: <a href="https://www.maverickgaming.com/maverick-gaming-cares">https://www.maverickgaming.com/maverick-gaming-cares</a></li>\n	<li>We announce your partnership on our social media platform and on our websites. &nbsp\;</li>\n	<li>We can send exclusive offers to our 2\,000+ employees to help generate revenue for your business.</li>\n	<li>You can be mentioned in our Chambers of Commerce newsletters and local news paper ads we run about Maverick Cares.</li>\n	<li>You can also join us at one of our locations during the event where you can not only provide your good/service directly to people in need\, but you can also interact with Community Leaders that attend our events including Mayors\, Chamber members\, and elected officials.</li>\n</ol>\n\n<p><span style="color:#B22222"><strong>How to Donate:</strong></span>&nbsp\;<br />\nContact Sara Stewart at:<br />\nEmail: <a href="mailto:sara.stewart@maverickgaming.com">sara.stewart@maverickgaming.com</a><br />\nPhone: 360-229-8168</p>\n
LOCATION:Silver Dollar Casino Renton 3100 E Valley Road Renton\, WA 98055
UID:e.16.10584
SEQUENCE:3
DTSTAMP:20260420T103001Z
URL:https://chamber.gorenton.com/events/details/maverick-cares-thanksgiving-community-event-10584
END:VEVENT

END:VCALENDAR
