BEGIN:VCALENDAR
VERSION:2.0
PRODID:-//ChamberMaster//Event Calendar 2.0//EN
METHOD:PUBLISH
X-PUBLISHED-TTL:P3D
REFRESH-INTERVAL:P3D
CALSCALE:GREGORIAN
BEGIN:VEVENT
DTSTART:20211007T210000Z
DTEND:20211007T220000Z
X-MICROSOFT-CDO-ALLDAYEVENT:FALSE
SUMMARY:Medicare 101 with Karen Nelson
DESCRIPTION:What are the different parts that comprise Medicare? What do they cover? What changes can I make to my Medicare plan (and should I make these changes)? Karen will help answer these questions and more!
X-ALT-DESC;FMTTYPE=text/html:What are the different parts that comprise Medicare? What do they cover? What changes can I make to my Medicare plan (and should I make these changes)? Karen will help answer these questions and more!
LOCATION:Online Presentation via Zoom
UID:e.16.8805
SEQUENCE:3
DTSTAMP:20260420T103002Z
URL:https://chamber.gorenton.com/events/details/medicare-101-with-karen-nelson-8805
END:VEVENT

END:VCALENDAR
