BEGIN:VCALENDAR
VERSION:2.0
PRODID:-//ChamberMaster//Event Calendar 2.0//EN
METHOD:PUBLISH
X-PUBLISHED-TTL:P3D
REFRESH-INTERVAL:P3D
CALSCALE:GREGORIAN
BEGIN:VEVENT
DTSTART:20220819T190000Z
DTEND:20220819T200000Z
X-MICROSOFT-CDO-ALLDAYEVENT:FALSE
SUMMARY:Meet & Greet with the Renton Reporter - We want to know what you want to see in the paper!
DESCRIPTION:The Renton Reporter is coming back to print in the fall of 2022\n\n\n\n\nWe want to meet you. We invite readers to join the news and advertising team for coffee and talk about all things Renton. \n\nPlease let us know what you want to read about when the Renton Reporter resurrects its weekly print edition in the Fall.  \n\n \n\nDates and Locations:\n\n\nAugust 19th\, noon at Boon Boona Coffee (724 S 3rd Street\, Renton 98057)\n\n\n\n \n\nALSO AVAILABLE:\n\nAugust 26th\, 11am at the Renton Downtown Partnership (241 Williams Ave S 2nd Floor\, Renton\, WA 98057)\n\n\n \n\nWe would love to meet you! For more information\, contact Andy Hobbs\, Regional Editor\, at ahobbs@soundpublishing.com or Carol Greiling at cgreiling@rentonreporter.com.
X-ALT-DESC;FMTTYPE=text/html:<div>\n<div>\n<div><strong>The Renton Reporter is coming back to print in the fall of 2022</strong></div>\n</div>\n</div>\n\n<div>\n<div>We want to meet you. We invite readers to join the news and advertising team for coffee and talk about all things Renton.&nbsp\;</div>\n\n<div>Please let us know what you want to read about when the Renton Reporter resurrects its weekly print edition in the Fall.&nbsp\;&nbsp\;</div>\n\n<div>&nbsp\;</div>\n\n<div><u><strong>Dates and Locations:</strong></u></div>\n\n<div>\n<div><span style="font-family:arial\,sans-serif">August 19th\, noon at Boon Boona Coffee (724 S 3rd Street\, Renton 98057)</span><br />\n<br />\n&nbsp\;</div>\n\n<div><span style="font-family:arial\,sans-serif">ALSO AVAILABLE:<br />\nAugust 26th\, 11am at the Renton Downtown Partnership (</span><span style="color:rgb(32\, 33\, 36)\; font-family:arial\,sans-serif">241 Williams Ave S 2nd Floor\, Renton\, WA 98057)</span></div>\n</div>\n\n<div>&nbsp\;</div>\n\n<div>We would love to meet you! For more information\, contact Andy Hobbs\, Regional Editor\, at&nbsp\;<a href="mailto:ahobbs@soundpublishing.com" style="color: rgb(17\, 85\, 204)\;" target="_blank">ahobbs@soundpublishing.com</a>&nbsp\;or Carol Greiling at&nbsp\;<a href="mailto:cgreiling@rentonreporter.com" style="color: rgb(17\, 85\, 204)\;" target="_blank">cgreiling@rentonreporter.com</a>.</div>\n</div>\n
LOCATION:Boon Boona Coffee (724 S 3rd Street\, Renton 98057)
UID:e.16.13511
SEQUENCE:3
DTSTAMP:20260419T203251Z
URL:https://chamber.gorenton.com/events/details/meet-greet-with-the-renton-reporter-we-want-to-know-what-you-want-to-see-in-the-paper-08-19-2022-13511
END:VEVENT

END:VCALENDAR
