BEGIN:VCALENDAR
VERSION:2.0
PRODID:-//ChamberMaster//Event Calendar 2.0//EN
METHOD:PUBLISH
X-PUBLISHED-TTL:P3D
REFRESH-INTERVAL:P3D
CALSCALE:GREGORIAN
BEGIN:VEVENT
DTSTART:20171013T230000Z
DTEND:20171014T010000Z
X-MICROSOFT-CDO-ALLDAYEVENT:FALSE
SUMMARY:Meet t he Artist: The Photographer's Eye
DESCRIPTION:Come mix and mingle at our upcoming art opening\, The Photographer's Eye. This exhibit features many photographs from artists shooting outdoor and interior scenes. You'll have a chance to meet them while enjoying an exquisite array of appetizers\, wine\, music by Soectrum\, and a live art demo! We look forward to seeing you there and provide complimentary parking. Please RSVP by October 11.
X-ALT-DESC;FMTTYPE=text/html:Come mix and mingle at our upcoming art opening\, The Photographer&rsquo\;s Eye. This exhibit features many photographs from artists shooting outdoor and interior scenes. You&rsquo\;ll have a chance to meet them while enjoying an exquisite array of appetizers\, wine\, music by Soectrum\, and a live art demo! We look forward to seeing you there and provide complimentary parking. Please RSVP by October 11.
LOCATION:11448 Rainier Ave\, S\, Seattle WA\, 98178
UID:e.16.5043
SEQUENCE:3
DTSTAMP:20260425T102007Z
URL:https://chamber.gorenton.com/events/details/meet-t-he-artist-the-photographer-s-eye-5043
END:VEVENT

END:VCALENDAR
