BEGIN:VCALENDAR
VERSION:2.0
PRODID:-//ChamberMaster//Event Calendar 2.0//EN
METHOD:PUBLISH
X-PUBLISHED-TTL:P3D
REFRESH-INTERVAL:P3D
CALSCALE:GREGORIAN
BEGIN:VEVENT
DTSTART:20220618T170000Z
DTEND:20220618T180000Z
X-MICROSOFT-CDO-ALLDAYEVENT:FALSE
SUMMARY:Mentor Informational Session
DESCRIPTION:Start with the Why! Why do Eileen & Callie's Place serve young ladies aging out of the foster care system? What is it that we do and how do we do it? Spend some time with us on Saturday\, June 18th\, 2022 and hear the answers to all of those questions and any other questions that you may have. You will also have an opportunity to learn about ways in which you are able to partner with us and support this very special population.
X-ALT-DESC;FMTTYPE=text/html:Start with the Why! Why do Eileen &amp\; Callie&rsquo\;s Place serve young ladies aging out of the foster care system? What is it that we do and how do we do it? Spend some time with us on Saturday\, June 18th\, 2022 and hear the answers to all of those questions and any other questions that you may have. You will also have an opportunity to learn about ways in which you are able to partner with us and support this very special population.
LOCATION:Zoom Session: https://us02web.zoom.us/j/87956912371?pwd=Y3RFMVd6ZjdJQUwwbWdrR2ZoZzI5UT09
UID:e.16.11827
SEQUENCE:3
DTSTAMP:20260419T230849Z
URL:https://chamber.gorenton.com/events/details/mentor-informational-session-11827
END:VEVENT

END:VCALENDAR
