BEGIN:VCALENDAR
VERSION:2.0
PRODID:-//ChamberMaster//Event Calendar 2.0//EN
METHOD:PUBLISH
X-PUBLISHED-TTL:P3D
REFRESH-INTERVAL:P3D
CALSCALE:GREGORIAN
BEGIN:VEVENT
DTSTART:20190510T210000Z
DTEND:20190510T210000Z
X-MICROSOFT-CDO-ALLDAYEVENT:FALSE
SUMMARY:Mitsubishi Aircraft US Headquarters Ribbon Cutting
DESCRIPTION:Mitsubishi Aircarft Corporation America cordially invites you to attend a grand opening ceremony of the company's new United States Headquarters.
X-ALT-DESC;FMTTYPE=text/html:Mitsubishi Aircarft Corporation America cordially invites you to attend a grand opening ceremony of the company&#39\;s new United States Headquarters.
LOCATION:1601 East Valley Road\, Suite 300 Renton WA\, 98057
UID:e.16.6520
SEQUENCE:3
DTSTAMP:20260424T035359Z
URL:https://chamber.gorenton.com/events/details/mitsubishi-aircraft-us-headquarters-ribbon-cutting-6520
END:VEVENT

END:VCALENDAR
