BEGIN:VCALENDAR
VERSION:2.0
PRODID:-//ChamberMaster//Event Calendar 2.0//EN
METHOD:PUBLISH
X-PUBLISHED-TTL:P3D
REFRESH-INTERVAL:P3D
CALSCALE:GREGORIAN
BEGIN:VEVENT
DTSTART:20210923T230000Z
DTEND:20210924T010000Z
X-MICROSOFT-CDO-ALLDAYEVENT:FALSE
SUMMARY:Mixers & Mulligans!
DESCRIPTION:Providers Appreciation Happy Hour Thursday\, September 23rd from 4PM-6PM Village Concepts of Fairwood 17010 140th Ave SE\, Renton\, WA 98058 Swing by our "Par-Tee" on the Greens for a special Happy Hour for our partners in senior care! Drinks & Appetizers will be served. Please RSVP with April or Jen at 425-658-0322 by September 16th
X-ALT-DESC;FMTTYPE=text/html:Providers Appreciation Happy Hour Thursday\, September 23rd from 4PM-6PM Village Concepts of Fairwood 17010 140th Ave SE\, Renton\, WA 98058 Swing by our &quot\;Par-Tee&quot\; on the Greens for a special Happy Hour for our partners in senior care! Drinks &amp\; Appetizers will be served. Please RSVP with April or Jen at 425-658-0322 by September 16th
LOCATION:Village Concepts of Fairwood 17010 140th Ave SE Renton\, WA 98058
UID:e.16.8427
SEQUENCE:3
DTSTAMP:20260420T120111Z
URL:https://chamber.gorenton.com/events/details/mixers-mulligans-8427
END:VEVENT

END:VCALENDAR
