BEGIN:VCALENDAR
VERSION:2.0
PRODID:-//ChamberMaster//Event Calendar 2.0//EN
METHOD:PUBLISH
X-PUBLISHED-TTL:P3D
REFRESH-INTERVAL:P3D
CALSCALE:GREGORIAN
BEGIN:VEVENT
DTSTART:20190513T010000Z
DTEND:20190513T030000Z
X-MICROSOFT-CDO-ALLDAYEVENT:FALSE
SUMMARY:Mother's Day Wine Tasting and Terrariums
DESCRIPTION:Let's raise a glass to mom (and to all mom-like people). Join us for this special Mother's Day event with our friends at Urban Sprouts! Treat mom with a fun evening out building stunning mini landscapes and sipping on (and learning about) about specialty wines! 21+ to drink.\n\n\n\nIn this terrarium class we will cover the logistics and proper set up of your very own hanging or desktop terrariums! We have a variety of great plants\, seeds\, mosses\, stones and decorations to choose from for your creation! Register: www.UrbanSproutsStore.com\n\n\n\nNew to plants? No worries! Terrariums are the perfect way to introduce plants into your home - they are easy to care for and we are available for continuous post care to help you and your terrarium succeed!
X-ALT-DESC;FMTTYPE=text/html:<span style="font-size:14px"><span style="color:#FF0000"><strong>Let&#39\;s raise a glass to mom (and to all mom-like people).&nbsp\;</strong><span style="font-family:lato\,sans-serif"><strong>Join us for this special Mother&#39\;s Day event with our friends at Urban Sprouts!</strong></span></span><span style="color:rgb(86\, 85\, 85)\; font-family:lato\,sans-serif"> Treat mom with a fun evening out building stunning mini landscapes and sipping on (and learning about) about specialty wines! 21+ to drink.<br />\n<br />\nIn this terrarium class we will cover the logistics and proper set up of your very own hanging or desktop terrariums! We have a variety of great plants\, seeds\, mosses\, stones and decorations to choose from for your creation! Register: <strong>www.UrbanSproutsStore.com</strong><br />\n<br />\nNew to plants? No worries! Terrariums are the perfect way to introduce plants into your home - they are easy to care for and we are available for continuous post care to help you and your terrarium succeed!</span></span>
LOCATION:Urban Sprouts 724 S 3rd St Renton\, WA 98057
UID:e.16.6516
SEQUENCE:3
DTSTAMP:20260424T035306Z
URL:https://chamber.gorenton.com/events/details/mother-s-day-wine-tasting-and-terrariums-6516
END:VEVENT

END:VCALENDAR
