BEGIN:VCALENDAR
VERSION:2.0
PRODID:-//ChamberMaster//Event Calendar 2.0//EN
METHOD:PUBLISH
X-PUBLISHED-TTL:P3D
REFRESH-INTERVAL:P3D
CALSCALE:GREGORIAN
BEGIN:VEVENT
DTSTART:20220506T003000Z
DTEND:20220506T013000Z
X-MICROSOFT-CDO-ALLDAYEVENT:FALSE
SUMMARY:National Day of Prayer - Praying for our Nation\, City and our Leaders
DESCRIPTION:Come and join\n\nCelebration Foursquare Church - Pastor Amy Lubienski\,\n\nRenton on Christian Center - Pastor Kevin LaRoche and\n\nCentro de Avivamiento A.D.A.I. - Pastor Bertin Rivas\n\nto pray for our Nation\, City and leadership.
X-ALT-DESC;FMTTYPE=text/html:Come and join<br />\n<a href="https://www.cfcrenton.com/" onclick="window.open(this.href\, ''\, 'resizable=no\,status=no\,location=no\,toolbar=no\,menubar=no\,fullscreen=no\,scrollbars=no\,dependent=no')\; return false\;">Celebration Foursquare Church</a> - Pastor Amy Lubienski\,<br />\n<a href="https://rccfoursquare.org/" onclick="window.open(this.href\, ''\, 'resizable=no\,status=no\,location=no\,toolbar=no\,menubar=no\,fullscreen=no\,scrollbars=no\,dependent=no')\; return false\;">Renton on Christian Center</a> - Pastor Kevin LaRoche and<br />\n<a href="https://www.facebook.com/Centro-de-Avivamiento-ADAI-101843762490761" onclick="window.open(this.href\, ''\, 'resizable=no\,status=no\,location=no\,toolbar=no\,menubar=no\,fullscreen=no\,scrollbars=no\,dependent=no')\; return false\;">Centro de Avivamiento A.D.A.I.</a> - Pastor Bertin Rivas<br />\nto pray for our Nation\, City and leadership.
LOCATION:625 S 4th Street\, Renton\, WA 98057
UID:e.16.11512
SEQUENCE:3
DTSTAMP:20260420T003018Z
URL:https://chamber.gorenton.com/events/details/national-day-of-prayer-praying-for-our-nation-city-and-our-leaders-11512
END:VEVENT

END:VCALENDAR
