BEGIN:VCALENDAR
VERSION:2.0
PRODID:-//ChamberMaster//Event Calendar 2.0//EN
METHOD:PUBLISH
X-PUBLISHED-TTL:P3D
REFRESH-INTERVAL:P3D
CALSCALE:GREGORIAN
BEGIN:VEVENT
DTSTART:20181208T180000Z
DTEND:20181208T190000Z
X-MICROSOFT-CDO-ALLDAYEVENT:FALSE
SUMMARY:Navigating Life in America - Mandarin
DESCRIPTION:Renton Technical College is hosting a workshop in partnership with the King County Library System about Navigating Life in America. This workshop is intended to offer recent immigrants a place to discuss cross-cultural communication skills and adapting to US culture. The workshop will be on December 8 at 10 am (in Mandarin) and 11 am (in Vietnamese). "?????" ???????????????????????\,????????????????:?????????\,??????\,???????????\,????\,??????\,??????\,????????\,??????????\,???(?????????????\,??????????)??????????????
X-ALT-DESC;FMTTYPE=text/html:Renton Technical College is hosting a workshop in partnership with the King County Library System about Navigating Life in America. This workshop is intended to offer recent immigrants a place to discuss cross-cultural communication skills and adapting to US culture. The workshop will be on December 8 at 10 am (in Mandarin) and 11 am (in Vietnamese). &ldquo\;?????&rdquo\; ???????????????????????\,????????????????:?????????\,??????\,???????????\,????\,??????\,??????\,????????\,??????????\,???(?????????????\,??????????)??????????????
LOCATION:TLearning Resource & Career Center Room C102 Building C 3000 NE 4th St. Renton\, WA 98056
UID:e.16.5986
SEQUENCE:3
DTSTAMP:20260424T122037Z
URL:https://chamber.gorenton.com/events/details/navigating-life-in-america-mandarin-5986
END:VEVENT

END:VCALENDAR
