BEGIN:VCALENDAR
VERSION:2.0
PRODID:-//ChamberMaster//Event Calendar 2.0//EN
METHOD:PUBLISH
X-PUBLISHED-TTL:P3D
REFRESH-INTERVAL:P3D
CALSCALE:GREGORIAN
BEGIN:VEVENT
DTSTART:20180429T000000Z
DTEND:20180429T043000Z
X-MICROSOFT-CDO-ALLDAYEVENT:FALSE
SUMMARY:New Horizon School "Help Us Grow" Spring Gala/Fundraiser
DESCRIPTION:First ever fundraising event for 24 year old 501c3 school. Live entertainment provided by West Seattle Big Band. Master of Ceremonies: Tony Ventrella. Auctioneer: Cheryl Weber. Silent Auction. Live Auction. Lots of great dance music. Come and join us! And have some fun.
X-ALT-DESC;FMTTYPE=text/html:First ever fundraising event for 24 year old 501c3 school. Live entertainment provided by West Seattle Big Band. Master of Ceremonies: Tony Ventrella. Auctioneer: Cheryl Weber. Silent Auction. Live Auction. Lots of great dance music. Come and join us! And have some fun.
LOCATION:Renton Technical College Building "I" - Cafeteria/Ballroom
UID:e.16.5836
SEQUENCE:3
DTSTAMP:20260425T004956Z
URL:https://chamber.gorenton.com/events/details/new-horizon-school-help-us-grow-spring-gala-fundraiser-5836
END:VEVENT

END:VCALENDAR
