BEGIN:VCALENDAR
VERSION:2.0
PRODID:-//ChamberMaster//Event Calendar 2.0//EN
METHOD:PUBLISH
X-PUBLISHED-TTL:P3D
REFRESH-INTERVAL:P3D
CALSCALE:GREGORIAN
BEGIN:VEVENT
DTSTART:20180515T183000Z
DTEND:20180515T200000Z
X-MICROSOFT-CDO-ALLDAYEVENT:FALSE
SUMMARY:No Homeless Kids Benefit Luncheon
DESCRIPTION:Children shouldn't be homeless   yet their number is rising. Vision House services are needed more than ever. Guest speaker Ally Svenson\, co-founder of MOD Pizza\, and protector of the purpose will share her vision of how businesses can shape the community. Hear the inspiring story from formerly homeless parents who worked hard to forge a new path for their family\, and how you can support those following in their steps.
X-ALT-DESC;FMTTYPE=text/html:Children shouldn&#39\;t be homeless &ndash\; yet their number is rising. Vision House services are needed more than ever. Guest speaker Ally Svenson\, co-founder of MOD Pizza\, and protector of the purpose will share her vision of how businesses can shape the community. Hear the inspiring story from formerly homeless parents who worked hard to forge a new path for their family\, and how you can support those following in their steps.
LOCATION:Meydenbauer Center 11100 NE 6th St\, Bellevue\, WA 98004
UID:e.16.5743
SEQUENCE:3
DTSTAMP:20260424T214810Z
URL:https://chamber.gorenton.com/events/details/no-homeless-kids-benefit-luncheon-5743
END:VEVENT

END:VCALENDAR
