BEGIN:VCALENDAR
VERSION:2.0
PRODID:-//ChamberMaster//Event Calendar 2.0//EN
METHOD:PUBLISH
X-PUBLISHED-TTL:P3D
REFRESH-INTERVAL:P3D
CALSCALE:GREGORIAN
BEGIN:VEVENT
DTSTART:20230109T080000Z
DTEND:20230203T200000Z
X-MICROSOFT-CDO-ALLDAYEVENT:FALSE
SUMMARY:Nomination Round for Best of Renton 2023 begins January 9th!
DESCRIPTION:BEST OF RENTON 2023!\n\n\n\nNomination Round: Jan 9 - Feb 3\n\nWrite in your favorites per category!\n\nTop 5 from each category will move on to the finals round.\n\n \n\nFinals round is March 9 - April 4\n\nNo write in votes in this round.  People can only vote for one of the finalists per category and most votes will determine the winners!\n\n\n\nResults for Best of Renton 2023!\n\nThe winners will be announced May 25th in the Renton Reporter newspaper and on rentonreporter.com.
X-ALT-DESC;FMTTYPE=text/html:<div><span style="font-size:18px\;"><span style="color:#FF0000"><strong>BEST OF RENTON 2023!</strong></span></span><br />\n<br />\n<u>Nomination Round: Jan 9 - Feb 3</u><br />\nWrite in your favorites per category!</div>\n\n<div>Top 5 from each category will move on to the finals round.</div>\n\n<div>&nbsp\;</div>\n\n<div><u>Finals round is March 9 - April 4</u></div>\n\n<div>No write in votes in this round.&nbsp\; People can only vote for one of the finalists per category and most votes will determine the winners!</div>\n\n<div><br />\n<u>Results for Best of Renton 2023!</u></div>\n\n<div>The winners will be announced May 25th in the Renton Reporter newspaper and on rentonreporter.com.</div>\n
LOCATION:Vote online at vote.rentonreporter.com or look for ballots in the Renton Reporter newspaper Jan 12\, 19\, 26 and Feb 2! Ballots must be received at our office located at 1010 S 336th Street\, Suite 330\, Federal Way\, WA 98003 by February 3rd\, 2023.
UID:e.16.13959
SEQUENCE:3
DTSTAMP:20260419T124200Z
URL:https://chamber.gorenton.com/events/details/nomination-round-for-best-of-renton-2023-begins-january-9th-13959
END:VEVENT

END:VCALENDAR
