BEGIN:VCALENDAR
VERSION:2.0
PRODID:-//ChamberMaster//Event Calendar 2.0//EN
METHOD:PUBLISH
X-PUBLISHED-TTL:P3D
REFRESH-INTERVAL:P3D
CALSCALE:GREGORIAN
BEGIN:VEVENT
DTSTART:20220129T200000Z
DTEND:20220129T220000Z
X-MICROSOFT-CDO-ALLDAYEVENT:FALSE
SUMMARY:Northwest Share present FREE Vegetarian Food Truck!
DESCRIPTION:Join Northwest Share at the Renton Chamber of Commerce for a healthy\, fresh\, FREE lunch!
X-ALT-DESC;FMTTYPE=text/html:<span style="font-size:24px\;">Join Northwest Share at the Renton Chamber of Commerce for a healthy\, fresh\, FREE lunch!</span>
LOCATION:Renton Chamber of Commerce 625 S 4th St
UID:e.16.11337
SEQUENCE:3
DTSTAMP:20260420T074042Z
URL:https://chamber.gorenton.com/events/details/northwest-share-present-free-vegetarian-food-truck-11337
END:VEVENT

END:VCALENDAR
