BEGIN:VCALENDAR
VERSION:2.0
PRODID:-//ChamberMaster//Event Calendar 2.0//EN
METHOD:PUBLISH
X-PUBLISHED-TTL:P3D
REFRESH-INTERVAL:P3D
CALSCALE:GREGORIAN
BEGIN:VEVENT
DTSTART:20191206T020000Z
DTEND:20191206T030000Z
X-MICROSOFT-CDO-ALLDAYEVENT:FALSE
SUMMARY:“Not so Primative as One Might be Led to Believe:” Fashion and Style in Early King County
DESCRIPTION:Just how stylish were early white Seattlites? Local historian\, reenactor\, and historical fashion expert Elizabeth Korsmo fills us in on the styles and fashion of the Seattle area during the mid-19th century\, highlighting the ways in which early white immigrants dressed to impress.
X-ALT-DESC;FMTTYPE=text/html:Just how stylish were early white Seattlites? Local historian\, reenactor\, and historical fashion expert Elizabeth Korsmo fills us in on the styles and fashion of the Seattle area during the mid-19th century\, highlighting the ways in which early white immigrants dressed to impress.
LOCATION:Renton History Museum 235 Mill Ave S Renton\, WA\, 98057
UID:e.16.6634
SEQUENCE:3
DTSTAMP:20260423T175303Z
URL:https://chamber.gorenton.com/events/details/not-so-primative-as-one-might-be-led-to-believe-fashion-and-style-in-early-king-county-6634
END:VEVENT

END:VCALENDAR
