BEGIN:VCALENDAR
VERSION:2.0
PRODID:-//ChamberMaster//Event Calendar 2.0//EN
METHOD:PUBLISH
X-PUBLISHED-TTL:P3D
REFRESH-INTERVAL:P3D
CALSCALE:GREGORIAN
BEGIN:VEVENT
DTSTART:20220806T190000Z
DTEND:20220806T210000Z
X-MICROSOFT-CDO-ALLDAYEVENT:FALSE
SUMMARY:NW Share FREE Vegetarian Food Truck - August
DESCRIPTION:NW Share FREE Vegetarian Food Truck\nJoin us at the Renton Chamber of Commerce for a healthy\, fresh FREE lunch!\n\n \n\nAll are welcome!
X-ALT-DESC;FMTTYPE=text/html:<strong>NW Share FREE Vegetarian Food Truck</strong>\n<div>Join us at the Renton Chamber of Commerce for a healthy\, fresh FREE lunch!<br />\n&nbsp\;</div>\n\n<div>All are welcome!</div>\n
LOCATION:625 S 4th Street Renton\, WA 98057
UID:e.16.11538
SEQUENCE:3
DTSTAMP:20260419T203004Z
URL:https://chamber.gorenton.com/events/details/nw-share-free-vegetarian-food-truck-august-11538
END:VEVENT

END:VCALENDAR
