BEGIN:VCALENDAR
VERSION:2.0
PRODID:-//ChamberMaster//Event Calendar 2.0//EN
METHOD:PUBLISH
X-PUBLISHED-TTL:P3D
REFRESH-INTERVAL:P3D
CALSCALE:GREGORIAN
BEGIN:VEVENT
DTSTART:20220716T190000Z
DTEND:20220716T210000Z
X-MICROSOFT-CDO-ALLDAYEVENT:FALSE
SUMMARY:NW Share FREE Vegetarian Food Truck - July
DESCRIPTION:NW Share FREE Vegetarian Food Truck\nJoin us at the Renton Chamber of Commerce for a healthy\, fresh FREE lunch!\n\n \n\nAll are welcome!
X-ALT-DESC;FMTTYPE=text/html:<strong>NW Share FREE Vegetarian Food Truck</strong>\n<div>Join us at the Renton Chamber of Commerce for a healthy\, fresh FREE lunch!<br />\n&nbsp\;</div>\n\n<div>All are welcome!</div>\n
LOCATION:625 S 4th Street Renton\, WA 98057
UID:e.16.11537
SEQUENCE:3
DTSTAMP:20260419T220347Z
URL:https://chamber.gorenton.com/events/details/nw-share-free-vegetarian-food-truck-july-11537
END:VEVENT

END:VCALENDAR
