BEGIN:VCALENDAR
VERSION:2.0
PRODID:-//ChamberMaster//Event Calendar 2.0//EN
METHOD:PUBLISH
X-PUBLISHED-TTL:P3D
REFRESH-INTERVAL:P3D
CALSCALE:GREGORIAN
BEGIN:VEVENT
DTSTART:20190531T030000Z
DTEND:20190531T030000Z
X-MICROSOFT-CDO-ALLDAYEVENT:FALSE
SUMMARY:Omni Fight Club Ribbon Cutting Open House Mixer
DESCRIPTION:Please join us for the official introduction of Omni Fight Club to the city of Renton and partnership with the Renton Chamber of Commerce.
X-ALT-DESC;FMTTYPE=text/html:Please join us for the official introduction of Omni Fight Club to the city of Renton and partnership with the Renton Chamber of Commerce.&nbsp\;&nbsp\;&nbsp\;&nbsp\;<br />\n&nbsp\;
LOCATION:Omni Fight Club Renton Landing 715 N Landing Way Renton\, WA 98057
UID:e.16.6526
SEQUENCE:3
DTSTAMP:20260424T052646Z
URL:https://chamber.gorenton.com/events/details/omni-fight-club-ribbon-cutting-open-house-mixer-6526
END:VEVENT

END:VCALENDAR
