BEGIN:VCALENDAR
VERSION:2.0
PRODID:-//ChamberMaster//Event Calendar 2.0//EN
METHOD:PUBLISH
X-PUBLISHED-TTL:P3D
REFRESH-INTERVAL:P3D
CALSCALE:GREGORIAN
BEGIN:VEVENT
DTSTART:20180601T003000Z
DTEND:20180601T020000Z
X-MICROSOFT-CDO-ALLDAYEVENT:FALSE
SUMMARY:On the Battlefront and the Homefront: Rentonites in the Great War Exhibit Opening
DESCRIPTION:Like thousands of cities and towns across the U.S. Renton fully mobilized to support the first World War effort\, sending its sons\, brothers\, and husbands off to foreign battlefields. But war mobilization also involved mothers and nurses and farmers and draft board workers too. This exhibit explores the experiences of all these men and women in confronting international war for the first time.
X-ALT-DESC;FMTTYPE=text/html:Like thousands of cities and towns across the U.S. Renton fully mobilized to support the first World War effort\, sending its sons\, brothers\, and husbands off to foreign battlefields. But war mobilization also involved mothers and nurses and farmers and draft board workers too. This exhibit explores the experiences of all these men and women in confronting international war for the first time.
LOCATION:RENTON HISTORY MUSEUM 235 Mill Ave. S. Renton\, WA 98057
UID:e.16.5840
SEQUENCE:3
DTSTAMP:20260424T231256Z
URL:https://chamber.gorenton.com/events/details/on-the-battlefront-and-the-homefront-rentonites-in-the-great-war-exhibit-opening-5840
END:VEVENT

END:VCALENDAR
