BEGIN:VCALENDAR
VERSION:2.0
PRODID:-//ChamberMaster//Event Calendar 2.0//EN
METHOD:PUBLISH
X-PUBLISHED-TTL:P3D
REFRESH-INTERVAL:P3D
CALSCALE:GREGORIAN
BEGIN:VEVENT
DTSTART:20211005T013000Z
DTEND:20211005T033000Z
X-MICROSOFT-CDO-ALLDAYEVENT:FALSE
SUMMARY:ONE Thing - Week of Worship and the Word
DESCRIPTION:Come and join us for nightly Worship and a Word from the Lord.\n\nMessage for ALL ages! \n\n\n\nDinner is available at 6:30pm\n\nService starts at 7pm.
X-ALT-DESC;FMTTYPE=text/html:Come and join us for nightly Worship and a Word from the Lord.<br />\nMessage for ALL ages!&nbsp\;<br />\n<br />\nDinner is available at 6:30pm<br />\nService starts at 7pm.
LOCATION:Celebration Foursquare Church 11840 148th Ave SE\, Renton\, WA 98055
UID:e.16.9094
SEQUENCE:3
DTSTAMP:20260420T115759Z
URL:https://chamber.gorenton.com/events/details/one-thing-week-of-worship-and-the-word-9094
END:VEVENT

END:VCALENDAR
