BEGIN:VCALENDAR
VERSION:2.0
PRODID:-//ChamberMaster//Event Calendar 2.0//EN
METHOD:PUBLISH
X-PUBLISHED-TTL:P3D
REFRESH-INTERVAL:P3D
CALSCALE:GREGORIAN
BEGIN:VEVENT
DTSTART:20190515T160000Z
DTEND:20190515T170000Z
X-MICROSOFT-CDO-ALLDAYEVENT:FALSE
SUMMARY:Online Marketing Strategies for Retail Businesses
DESCRIPTION:Connectivity is changing the way consumers behave when making purchases\, amplifying the need for retail business to build a strong online presence. During this livestream event\, we'll share tips to help small businesses succeed with Google Shopping and other online marketing strategies. "Online Marketing Strategies for Retail Businesses" \n\nis a FREE Workshop hosted by IYBS Local and Powered by Google.
X-ALT-DESC;FMTTYPE=text/html:Connectivity is changing the way consumers behave when making purchases\, amplifying the need for retail business to build a strong online presence. During this livestream event\, we&rsquo\;ll share tips to help small businesses succeed with Google Shopping and other online marketing strategies. &ldquo\;Online Marketing Strategies for Retail Businesses&rdquo\;&nbsp\;<br />\nis a FREE Workshop hosted by IYBS Local and Powered by Google.&nbsp\;
LOCATION:Renton Chamber of Commerce 625 S 4th St.
UID:e.16.6518
SEQUENCE:3
DTSTAMP:20260424T052618Z
URL:https://chamber.gorenton.com/events/details/online-marketing-strategies-for-retail-businesses-6518
END:VEVENT

END:VCALENDAR
