BEGIN:VCALENDAR
VERSION:2.0
PRODID:-//ChamberMaster//Event Calendar 2.0//EN
METHOD:PUBLISH
X-PUBLISHED-TTL:P3D
REFRESH-INTERVAL:P3D
CALSCALE:GREGORIAN
BEGIN:VEVENT
DTSTART;VALUE=DATE:20220412
DTEND;VALUE=DATE:20220413
TRANSP:TRANSPARENT
X-MICROSOFT-CDO-ALLDAYEVENT:TRUE
SUMMARY:Open a BECU Early Saver Account and get a Free Gift!
DESCRIPTION:With a BECU Early Saver account\, kids learn what it takes to start off on a healthy financial note. They'll earn 2.02% APY on their first $500 and can track their savings using online banking. Plus now through 4/30/22\, new Early Saver account holders can choose from one of three free gifts while supplies last!\n\n\n\nTo redeem a free gift while supplies last\, cite the offer promo code CUYOUTHMONTH.
X-ALT-DESC;FMTTYPE=text/html:With a BECU Early Saver account\, kids learn what it takes to start off on a healthy financial note. They&rsquo\;ll earn 2.02% APY on their first $500 and can track their savings using online banking. Plus now through 4/30/22\, new Early Saver account holders can choose from one of three free gifts while supplies last!<br />\n<br />\nTo redeem a free gift while supplies last\, cite the offer promo code CUYOUTHMONTH.
LOCATION:Renton Benson and Renton Landing locations
UID:e.16.11437
SEQUENCE:3
DTSTAMP:20260420T014620Z
URL:https://chamber.gorenton.com/events/details/open-a-becu-early-saver-account-and-get-a-free-gift-04-12-2022-11437
END:VEVENT

END:VCALENDAR
