BEGIN:VCALENDAR
VERSION:2.0
PRODID:-//ChamberMaster//Event Calendar 2.0//EN
METHOD:PUBLISH
X-PUBLISHED-TTL:P3D
REFRESH-INTERVAL:P3D
CALSCALE:GREGORIAN
BEGIN:VEVENT
DTSTART:20211121T180000Z
DTEND:20211121T200000Z
X-MICROSOFT-CDO-ALLDAYEVENT:FALSE
SUMMARY:Operation Christmas Child - Shoeboxes due!
DESCRIPTION:Operation Christmas Child\, a project of Samaritan's Purse\, has delivered 157 million gift-filled shoeboxes to boys and girls around the world.\n\nPlease visit Samaritans Purse for details on gift boxes. \n\nCelebration Foursquare Church is a drop off location for your filled boxes!
X-ALT-DESC;FMTTYPE=text/html:<strong>Operation Christmas Child</strong><span style="color:rgb(77\, 81\, 86)\; font-family:roboto\,arial\,sans-serif\; font-size:14px">\, a project of Samaritan&#39\;s Purse\, has delivered 157 million gift-filled shoeboxes to boys and girls around the world.</span><br />\n<a href="https://www.samaritanspurse.org/operation-christmas-child/pack-a-shoe-box/" style="font-family: roboto\, arial\, sans-serif\; font-size: 14px\;">Please visit Samaritans Purse for details on gift boxes.&nbsp\;</a><br />\n<span style="color:rgb(77\, 81\, 86)\; font-family:roboto\,arial\,sans-serif\; font-size:14px">Celebration Foursquare Church is a drop off location for your filled boxes!</span><br />\n&nbsp\;
LOCATION:11840 148th Ave SE Renton\, WA 98059
UID:e.16.10022
SEQUENCE:3
DTSTAMP:20260420T090403Z
URL:https://chamber.gorenton.com/events/details/operation-christmas-child-shoeboxes-due-10022
END:VEVENT

END:VCALENDAR
