BEGIN:VCALENDAR
VERSION:2.0
PRODID:-//ChamberMaster//Event Calendar 2.0//EN
METHOD:PUBLISH
X-PUBLISHED-TTL:P3D
REFRESH-INTERVAL:P3D
CALSCALE:GREGORIAN
BEGIN:VEVENT
DTSTART:20180824T223000Z
DTEND:20180825T010000Z
X-MICROSOFT-CDO-ALLDAYEVENT:FALSE
SUMMARY:Our Famous Annual Luau--Our Biggest Party of the Year!
DESCRIPTION:Aloha! The Lakeshore invites you to enjoy an all-you-can-eat Hawaiian buffet\, Hawaiian drinks\, live music and hula dancing!
X-ALT-DESC;FMTTYPE=text/html:Aloha! The Lakeshore invites you to enjoy an all-you-can-eat Hawaiian buffet\, Hawaiian drinks\, live music and hula dancing!
LOCATION:The Lakeshore 11448 Rainier Ave S Seattle\, WA 98178
UID:e.16.5883
SEQUENCE:3
DTSTAMP:20260424T183909Z
URL:https://chamber.gorenton.com/events/details/our-famous-annual-luau-our-biggest-party-of-the-year-5883
END:VEVENT

END:VCALENDAR
