BEGIN:VCALENDAR
VERSION:2.0
PRODID:-//ChamberMaster//Event Calendar 2.0//EN
METHOD:PUBLISH
X-PUBLISHED-TTL:P3D
REFRESH-INTERVAL:P3D
CALSCALE:GREGORIAN
BEGIN:VEVENT
DTSTART:20190724T000000Z
DTEND:20190724T030000Z
X-MICROSOFT-CDO-ALLDAYEVENT:FALSE
SUMMARY:Outpatient Physical Therapy Open House & Ribbon Cutting
DESCRIPTION:Please join us for games\, snacks\, and giveaways in celebration of opening our 8th clinic in South King County!
X-ALT-DESC;FMTTYPE=text/html:Please join us for games\, snacks\, and giveaways in celebration of opening our 8th clinic in South King County!
LOCATION:3901 NE 4th St\, Renton\, WA 98056-4104\, United States
UID:e.16.6608
SEQUENCE:3
DTSTAMP:20260424T022056Z
URL:https://chamber.gorenton.com/events/details/outpatient-physical-therapy-open-house-ribbon-cutting-6608
END:VEVENT

END:VCALENDAR
