BEGIN:VCALENDAR
VERSION:2.0
PRODID:-//ChamberMaster//Event Calendar 2.0//EN
METHOD:PUBLISH
X-PUBLISHED-TTL:P3D
REFRESH-INTERVAL:P3D
CALSCALE:GREGORIAN
BEGIN:VEVENT
DTSTART:20190517T010000Z
DTEND:20190517T020000Z
X-MICROSOFT-CDO-ALLDAYEVENT:FALSE
SUMMARY:Pacific Coast\, Seattle's Own Railroad\, by Kurt Armbruster
DESCRIPTION:Join author Kurt Armbruster for a discussion of his latest book\, Pacific Coast\, Seattle's Own Railroad. After Seattle was passed up for the terminus of the Northern Pacific Railroad\, Seattle citizens decided to build their own. This book tells the colorful story of the building of one of the West Coast's most significant railroads.
X-ALT-DESC;FMTTYPE=text/html:Join author Kurt Armbruster for a discussion of his latest book\, Pacific Coast\, Seattle&rsquo\;s Own Railroad. After Seattle was passed up for the terminus of the Northern Pacific Railroad\, Seattle citizens decided to build their own. This book tells the colorful story of the building of one of the West Coast&rsquo\;s most significant railroads.
LOCATION:Renton History Museum 235 Mill Avenue S.
UID:e.16.6271
SEQUENCE:3
DTSTAMP:20260424T052421Z
URL:https://chamber.gorenton.com/events/details/pacific-coast-seattle-s-own-railroad-by-kurt-armbruster-6271
END:VEVENT

END:VCALENDAR
