BEGIN:VCALENDAR
VERSION:2.0
PRODID:-//ChamberMaster//Event Calendar 2.0//EN
METHOD:PUBLISH
X-PUBLISHED-TTL:P3D
REFRESH-INTERVAL:P3D
CALSCALE:GREGORIAN
BEGIN:VEVENT
DTSTART:20190123T000000Z
DTEND:20190123T040000Z
X-MICROSOFT-CDO-ALLDAYEVENT:FALSE
SUMMARY:Penrith Home Loans Grand Opening and Ribbon Cutting Ceremony
DESCRIPTION:Team Anderson and Penrith Home loans are pleased to announce the Grand Opening and Ribbon-Cutting ceremony of our new office location in Renton\, WA. We have worked hard to open this new facility and are excited to show it off. \n\n\n\nThis new office will be the hub for Team Anderson as well as additional loan teams in the future. We are looking forward to this new expanded space that will allow us to offer regular classes to our clients and referral partners. \n\n\n\nWe cannot wait to show you our new home. \n\n\n\nPlease join the celebration!\n\n\n\nThis event is open to the public\, please RSVP to janna.theriault@penrithhomeloans.com\n\n\n\nGreg Anderson | NMLS ID# 754378\n\nBranch Manager/ Mortgage Consultant\n\nWMS Series LLC/Renton WA-CL 713524\, OR-ML 5271\n\nFair Housing lender\n\n\n\nFacebook event page
X-ALT-DESC;FMTTYPE=text/html:<span style="font-family:arial\;"><span style="color: rgb(29\, 33\, 41)\; font-size: 14px\;">Team Anderson and Penrith Home loans are pleased to announce the Grand Opening and Ribbon-Cutting ceremony of our new office location in Renton\, WA. We have worked hard to open this new facility and are excited to show it off.&nbsp\;</span><br />\n<br />\n<span style="color: rgb(29\, 33\, 41)\; font-size: 14px\;">This new office will be the hub for Team Anderson as well as additional loan teams in the future. We are looking forward to this new expanded space that will allow us to offer regular classes to our clients and referral partners.&nbsp\;</span><br />\n<br />\n<span style="color: rgb(29\, 33\, 41)\; font-size: 14px\;">We cannot wait to show you our new home.&nbsp\;</span><br />\n<br />\n<span style="color: rgb(29\, 33\, 41)\; font-size: 14px\;">Please join the celebration!</span><br />\n<br />\n<span style="color: rgb(29\, 33\, 41)\; font-size: 14px\;">This event is open to the public\, please RSVP to <strong>janna.theriault@penrithhomeloans.com</strong></span><br />\n<br />\n<span style="color: rgb(29\, 33\, 41)\; font-size: 14px\;">Greg Anderson | NMLS ID# 754378</span><br />\n<span style="color: rgb(29\, 33\, 41)\; font-size: 14px\;">Branch Manager/ Mortgage Consultant</span><br />\n<span style="color: rgb(29\, 33\, 41)\; font-size: 14px\;">WMS Series LLC/Renton WA-CL 713524\, OR-ML 5271</span></span><br />\n<span style="color:rgb(29\, 33\, 41)\; font-family:helvetica\,arial\,sans-serif\; font-size:14px"><span style="font-family:arial\;">Fair Housing lender</span><br />\n<br />\n<a href="https://www.facebook.com/events/2128934167397124/?active_tab=about">Facebook event page</a></span>
LOCATION:Penrith Home Loans 15221 Maple Valley Hwy\, Suite 400 Renton WA\, 98058
UID:e.16.5995
SEQUENCE:3
DTSTAMP:20260424T110338Z
URL:https://chamber.gorenton.com/events/details/penrith-home-loans-grand-opening-and-ribbon-cutting-ceremony-5995
END:VEVENT

END:VCALENDAR
