BEGIN:VCALENDAR
VERSION:2.0
PRODID:-//ChamberMaster//Event Calendar 2.0//EN
METHOD:PUBLISH
X-PUBLISHED-TTL:P3D
REFRESH-INTERVAL:P3D
CALSCALE:GREGORIAN
BEGIN:VEVENT
DTSTART:20221029T013000Z
DTEND:20221029T023000Z
X-MICROSOFT-CDO-ALLDAYEVENT:FALSE
SUMMARY:Pink Out Friday! Breast Cancer Awareness Event
DESCRIPTION:About the event\n\n\n\n\nHelp raise awareness about breast cancer prevention through fitness! Join Commit Dance Fitness instructors for a 60-minute dance class and support Keep A Breast Foundation. All proceeds go to the Keep A Breast Foundation non-profit.\n\nOur goal is to raise $500+! Donations can be made directly to the fundraiser link: https://fit4prevention22.funraise.org/fundraiser/kyra-gaines \n\n \n\nThere will be a donation jar on-site for all cash donations.
X-ALT-DESC;FMTTYPE=text/html:<h2>&nbsp\;</h2>\n\n<div style="background:transparent\; border:0px\; padding:0px">\n<div style="background:transparent\; border:0px\; padding:0px">\n<p><br />\n<br />\n&nbsp\;</p>\n\n<h2>About the event</h2>\n\n<div style="background:transparent\; border:0px\; padding:0px">\n<div style="background:transparent\; border:0px\; padding:0px">\n<div style="background:transparent\; border:0px\; padding:0px">\n<p>Help raise awareness about breast cancer prevention through fitness! Join Commit Dance Fitness instructors for a 60-minute dance class and support Keep A Breast Foundation. All proceeds go to the Keep A Breast Foundation non-profit.</p>\n\n<p>Our goal is to raise $500+! Donations can be made directly to the fundraiser link: https://fit4prevention22.funraise.org/fundraiser/kyra-gaines&nbsp\;</p>\n\n<p>&nbsp\;</p>\n\n<p>There will be a donation jar on-site for all cash donations.&nbsp\;</p>\n</div>\n</div>\n</div>\n</div>\n</div>\n
LOCATION:Wellness Gaines Fitness 17110 116th Ave SE Unit A\, Renton\, WA 98058\, USA
UID:e.16.13631
SEQUENCE:3
DTSTAMP:20260419T174847Z
URL:https://chamber.gorenton.com/events/details/pink-out-friday-breast-cancer-awareness-event-13631
END:VEVENT

END:VCALENDAR
