BEGIN:VCALENDAR
VERSION:2.0
PRODID:-//ChamberMaster//Event Calendar 2.0//EN
METHOD:PUBLISH
X-PUBLISHED-TTL:P3D
REFRESH-INTERVAL:P3D
CALSCALE:GREGORIAN
BEGIN:VEVENT
DTSTART:20220528T010000Z
DTEND:20220528T040000Z
X-MICROSOFT-CDO-ALLDAYEVENT:FALSE
SUMMARY:Poker with the Police
DESCRIPTION:FOURTH FRIDAY WITH THE FORCE. COME SHARPEN YOUR SKILLS AND LEARN TO PLAY POKER WITH STAFF FROM THE RENTON POLICE DEPARTMENT. \n\n\n\nMUST REGISTER AHEAD OF TIME - FREE FOR MEMBERS TO ATTEND TO PRACTICE & PLAY ($15 charge for nonmembers)
X-ALT-DESC;FMTTYPE=text/html:<p><span style="font-size:24px\;"><strong><span style="font-family:times new roman\;"><span data-font-id="undefined">FOURTH FRIDAY WITH THE FORCE. COME SHARPEN YOUR SKILLS AND LEARN TO PLAY POKER WITH STAFF FROM THE RENTON POLICE DEPARTMENT.&nbsp\;<br />\n<br />\nMUST REGISTER AHEAD OF TIME - FREE FOR MEMBERS&nbsp\;TO ATTEND TO PRACTICE &amp\; PLAY ($15 charge for nonmembers)</span></span></strong></span></p>\n
LOCATION:RENTON CHAMBER OF COMMERCE 625 S 4th ST
UID:e.16.11317
SEQUENCE:3
DTSTAMP:20260420T014530Z
URL:https://chamber.gorenton.com/events/details/poker-with-the-police-05-27-2022-11317
END:VEVENT

END:VCALENDAR
