BEGIN:VCALENDAR
VERSION:2.0
PRODID:-//ChamberMaster//Event Calendar 2.0//EN
METHOD:PUBLISH
X-PUBLISHED-TTL:P3D
REFRESH-INTERVAL:P3D
CALSCALE:GREGORIAN
BEGIN:VEVENT
DTSTART:20210901T170000Z
DTEND:20210903T000000Z
X-MICROSOFT-CDO-ALLDAYEVENT:FALSE
SUMMARY:Pop Up Donor Center @ Renton Community Ctr
DESCRIPTION:Join us as City of Renton and Bloodworks Northwest work together again to support our local hospitals and patients by giving blood. Renton Community Center is opening their doors in September to provide an opportunity for local donors to come save lives! Make your life-saving appointment TODAY\, https://schedule.bloodworksnw.org/DonorPortal/GroupLanding.aspx?s=696B
X-ALT-DESC;FMTTYPE=text/html:Join us as City of Renton and Bloodworks Northwest work together again to support our local hospitals and patients by giving blood. Renton Community Center is opening their doors in September to provide an opportunity for local donors to come save lives! Make your life-saving appointment TODAY\, https://schedule.bloodworksnw.org/DonorPortal/GroupLanding.aspx?s=696B
LOCATION:1715 Maple Valley Hwy\, Renton
UID:e.16.8294
SEQUENCE:3
DTSTAMP:20260420T132720Z
URL:https://chamber.gorenton.com/events/details/pop-up-donor-center-renton-community-ctr-09-01-2021-8294
END:VEVENT

END:VCALENDAR
