BEGIN:VCALENDAR
VERSION:2.0
PRODID:-//ChamberMaster//Event Calendar 2.0//EN
METHOD:PUBLISH
X-PUBLISHED-TTL:P3D
REFRESH-INTERVAL:P3D
CALSCALE:GREGORIAN
BEGIN:VEVENT
DTSTART:20200329T010000Z
DTEND:20200329T030000Z
X-MICROSOFT-CDO-ALLDAYEVENT:FALSE
SUMMARY:POSTPONED - Terra's Helping Hands Ribbon Cutting
DESCRIPTION:We invite you to join us for Terra's Helping Hands Champagne Toast & Grand Opening Celebration!
X-ALT-DESC;FMTTYPE=text/html:We invite you to join us for Terra&#39\;s Helping Hands Champagne Toast &amp\; Grand Opening Celebration!
LOCATION:Refuel Cafe 401 Olympia Ave SE Renton\, WA 98057
UID:e.16.6765
SEQUENCE:3
DTSTAMP:20260423T131127Z
URL:https://chamber.gorenton.com/events/details/postponed-terra-s-helping-hands-ribbon-cutting-6765
END:VEVENT

END:VCALENDAR
