BEGIN:VCALENDAR
VERSION:2.0
PRODID:-//ChamberMaster//Event Calendar 2.0//EN
METHOD:PUBLISH
X-PUBLISHED-TTL:P3D
REFRESH-INTERVAL:P3D
CALSCALE:GREGORIAN
BEGIN:VEVENT
DTSTART:20180921T220000Z
DTEND:20180922T020000Z
X-MICROSOFT-CDO-ALLDAYEVENT:FALSE
SUMMARY:(POSTPONED) The Win Team Ribbon Cutting
DESCRIPTION:***NOTE***\n\nDue to the Win Team's Success\, they have been extremely busy therefore have asked to postpone their event at a later date. We will keep you posted.\n\n\n\nYou're Invited!\n\nJoin The Win Team for our ribbon cutting & grand opening.\n\nLight refreshments and snacks provided.\n\nRibbon Cutting to happen near to 5:00 pm.
X-ALT-DESC;FMTTYPE=text/html:***NOTE***<br />\nDue to the Win Team&#39\;s Success\, they have been extremely busy therefore have asked to postpone their event at a later date. We will keep you posted.<br />\n<br />\nYou&#39\;re Invited!<br />\nJoin The Win Team for our ribbon cutting &amp\; grand opening.<br />\nLight refreshments and snacks provided.<br />\nRibbon Cutting to happen near to 5:00 pm.<br />\n&nbsp\;
LOCATION:801 S. 3rd Street Unit E Renton\, WA 98057
UID:e.16.5906
SEQUENCE:3
DTSTAMP:20260424T153437Z
URL:https://chamber.gorenton.com/events/details/postponed-the-win-team-ribbon-cutting-5906
END:VEVENT

END:VCALENDAR
