BEGIN:VCALENDAR
VERSION:2.0
PRODID:-//ChamberMaster//Event Calendar 2.0//EN
METHOD:PUBLISH
X-PUBLISHED-TTL:P3D
REFRESH-INTERVAL:P3D
CALSCALE:GREGORIAN
BEGIN:VEVENT
DTSTART:20200319T230000Z
DTEND:20200320T020000Z
X-MICROSOFT-CDO-ALLDAYEVENT:FALSE
SUMMARY:Postponed - Top of the Hill Ribbon Cutting Ceremony
DESCRIPTION:Top of the Hill Produce has POSTPONED their grand opening/ribbon cutting scheduled for the 19th. \n\nDate TBD\n\n\nPlease join us as we celebrate the Ribbon Cutting and Grand Re-opening of Top of the Hill Quality Produce and Meats.\n\nRefreshments will be served.
X-ALT-DESC;FMTTYPE=text/html:<h2><strong>Top of the Hill Produce has POSTPONED their grand opening/ribbon cutting scheduled for the 19<sup>th</sup>.&nbsp\;<br />\nDate TBD</strong></h2>\n<br />\n<s>Please join us as we celebrate the Ribbon Cutting and Grand Re-opening of Top of the Hill Quality Produce and Meats.<br />\nRefreshments will be served.</s>
LOCATION:Top of the Hill Quality Produce and Meats 5325 NE 4th St. Renton\, WA 98059
UID:e.16.6764
SEQUENCE:3
DTSTAMP:20260423T131556Z
URL:https://chamber.gorenton.com/events/details/postponed-top-of-the-hill-ribbon-cutting-ceremony-6764
END:VEVENT

END:VCALENDAR
