BEGIN:VCALENDAR
VERSION:2.0
PRODID:-//ChamberMaster//Event Calendar 2.0//EN
METHOD:PUBLISH
X-PUBLISHED-TTL:P3D
REFRESH-INTERVAL:P3D
CALSCALE:GREGORIAN
BEGIN:VEVENT
DTSTART:20211115T190000Z
DTEND:20211115T213000Z
X-MICROSOFT-CDO-ALLDAYEVENT:FALSE
SUMMARY:PPE Distribution
DESCRIPTION:Drive-thru free PPE distribution\n\nPLEASE REGISTER SO BAGS CAN BE READY BASED UPON EMPLOYEE/CUSTOMER COUNT
X-ALT-DESC;FMTTYPE=text/html:<p>Drive-thru free PPE distribution</p>\n\n<p>PLEASE REGISTER SO BAGS CAN BE READY BASED UPON EMPLOYEE/CUSTOMER COUNT</p>\n
LOCATION:625 S 4th St Renton WA 98057
UID:e.16.10579
SEQUENCE:3
DTSTAMP:20260420T090132Z
URL:https://chamber.gorenton.com/events/details/ppe-distribution-10579
END:VEVENT

END:VCALENDAR
