BEGIN:VCALENDAR
VERSION:2.0
PRODID:-//ChamberMaster//Event Calendar 2.0//EN
METHOD:PUBLISH
X-PUBLISHED-TTL:P3D
REFRESH-INTERVAL:P3D
CALSCALE:GREGORIAN
BEGIN:VEVENT
DTSTART:20210925T170000Z
DTEND:20210925T200000Z
X-MICROSOFT-CDO-ALLDAYEVENT:FALSE
SUMMARY:Pride of Bristol Bay Wild Salmon Buying Club
DESCRIPTION:Pride of Bristol Bay\, a wild Alaskan salmon company\, is bringing sustainably caught sockeye salmon from this year's historical catch in Bristol Bay\, Alaska\, to Seattle. Buy your winter supply of wild salmon fillets or portions in a case at a discounted and taste the wild\, "From our nets\, to your table". Great for those looking to stock up or split a case with a friend! Orders close August 31st\, so be sure to secure your share for the September 25th pickup at the Renton Community Center! Pop by the event anytime between 10am and 1pm to pick up your case and chat all things wild salmon with a Pride of Bristol Bay employee. Order for the Seattle Buying Club at: https://prideofbristolbay.com/pages/club
X-ALT-DESC;FMTTYPE=text/html:Pride of Bristol Bay\, a wild Alaskan salmon company\, is bringing sustainably caught sockeye salmon from this year&#39\;s historical catch in Bristol Bay\, Alaska\, to Seattle. Buy your winter supply of wild salmon fillets or portions in a case at a discounted and taste the wild\, &quot\;From our nets\, to your table&quot\;. Great for those looking to stock up or split a case with a friend! Orders close August 31st\, so be sure to secure your share for the September 25th pickup at the Renton Community Center! Pop by the event anytime between 10am and 1pm to pick up your case and chat all things wild salmon with a Pride of Bristol Bay employee. Order for the Seattle Buying Club at: https://prideofbristolbay.com/pages/club
LOCATION:Renton Community Center 1715 Maple Valley Hwy\, Renton\, Washington 98057
UID:e.16.8381
SEQUENCE:3
DTSTAMP:20260420T121231Z
URL:https://chamber.gorenton.com/events/details/pride-of-bristol-bay-wild-salmon-buying-club-8381
END:VEVENT

END:VCALENDAR
