BEGIN:VCALENDAR
VERSION:2.0
PRODID:-//ChamberMaster//Event Calendar 2.0//EN
METHOD:PUBLISH
X-PUBLISHED-TTL:P3D
REFRESH-INTERVAL:P3D
CALSCALE:GREGORIAN
BEGIN:VEVENT
DTSTART:20211205T010000Z
DTEND:20211205T040000Z
X-MICROSOFT-CDO-ALLDAYEVENT:FALSE
SUMMARY:PRISM for Veterans: Mental Health Guided Meditation and Writing Therapy
DESCRIPTION:UPDATE:   DATE BEING MOVED BY ORGANIZERS TO MAXIMIZE PARTICIPATION BY VETERAN GROUPS WHO WANT TO PARTICIPATE TOGETHER.\n\nSTAY TUNED FOR DATE CHANGE UPDATE.\n\n \n\nJoin Elevate PR Management Company as they bring a mini-PRISM event right here to Renton. Experience the liberating freedom as you are walked through a guided meditation\, writing prompt and therapeutic release in a safe environment and space. Grassroot approach to self-care and mental health - something so desperately needed. Registration required due to capacity in numbers.
X-ALT-DESC;FMTTYPE=text/html:<p><span style="color:#B22222\;"><strong>UPDATE:&nbsp\; &nbsp\;DATE BEING MOVED BY ORGANIZERS TO MAXIMIZE PARTICIPATION BY VETERAN GROUPS WHO WANT TO PARTICIPATE TOGETHER.</strong></span></p>\n\n<p><span style="color:#B22222\;"><strong>STAY TUNED FOR DATE CHANGE UPDATE.</strong></span></p>\n\n<p>&nbsp\;</p>\n\n<p>Join Elevate PR Management Company as they bring a mini-PRISM event right here to Renton. Experience the liberating freedom as you are walked through a guided meditation\, writing prompt and therapeutic release in a safe environment and space. Grassroot approach to self-care and mental health - something so desperately needed. Registration required due to capacity in numbers.<br />\n&nbsp\;</p>\n
LOCATION:Renton Chamber of Commerce 625 S 4th St Renton WA 98057
UID:e.16.10602
SEQUENCE:3
DTSTAMP:20260420T074114Z
URL:https://chamber.gorenton.com/events/details/prism-for-veterans-mental-health-guided-meditation-and-writing-therapy-10602
END:VEVENT

END:VCALENDAR
